Workbook

Sheet COURSE WORK
F1: Course Work
C2: M1 | D2: M2 | E2: M3 | F2: M4 | G2: M5 | H2: M6 | I2: M7 | J2: M8 | K2: M9 | L2: M10 | M2: Total | O2: F. TOTAL
C3: 10 | D3: 10 | E3: 10 | F3: 10 | G3: 10 | H3: 10 | I3: 10 | J3: 10 | K3: 10 | L3: 10 | M3: =SUM(C3:L3) -> 0
A4: ='CLASSLIST SYSTEM'!B7 -> 0 | B4: ='CLASSLIST SYSTEM'!E7 -> 0 | M4: =SUM(C4:L4) -> 0 | N4: =(M4/M$3)*100 -> 0 | O4: =(M4/M$3)*100 -> 0
A5: ='CLASSLIST SYSTEM'!B8 -> 0 | B5: ='CLASSLIST SYSTEM'!E8 -> 0 | M5: =SUM(C5:L5) -> 0 | N5: =(M5/M$3)*100 -> 0 | O5: =(M5/M$3)*100 -> 0
A6: ='CLASSLIST SYSTEM'!B9 -> 0 | B6: ='CLASSLIST SYSTEM'!E9 -> 0 | M6: =SUM(C6:L6) -> 0 | N6: =(M6/M$3)*100 -> 0 | O6: =(M6/M$3)*100 -> 0
A7: ='CLASSLIST SYSTEM'!B10 -> 0 | B7: ='CLASSLIST SYSTEM'!E10 -> 0 | M7: =SUM(C7:L7) -> 0 | N7: =(M7/M$3)*100 -> 0 | O7: =(M7/M$3)*100 -> 0
A8: ='CLASSLIST SYSTEM'!B11 -> 0 | B8: ='CLASSLIST SYSTEM'!E11 -> 0 | M8: =SUM(C8:L8) -> 0 | N8: =(M8/M$3)*100 -> 0 | O8: =(M8/M$3)*100 -> 0
A9: ='CLASSLIST SYSTEM'!B12 -> 0 | B9: ='CLASSLIST SYSTEM'!E12 -> 0 | M9: =SUM(C9:L9) -> 0 | N9: =(M9/M$3)*100 -> 0 | O9: =(M9/M$3)*100 -> 0
A10: ='CLASSLIST SYSTEM'!B13 -> 0 | B10: ='CLASSLIST SYSTEM'!E13 -> 0 | M10: =SUM(C10:L10) -> 0 | N10: =(M10/M$3)*100 -> 0 | O10: =(M10/M$3)*100 -> 0
A11: ='CLASSLIST SYSTEM'!B14 -> 0 | B11: ='CLASSLIST SYSTEM'!E14 -> 0 | M11: =SUM(C11:L11) -> 0 | N11: =(M11/M$3)*100 -> 0 | O11: =(M11/M$3)*100 -> 0
A12: ='CLASSLIST SYSTEM'!B15 -> 0 | B12: ='CLASSLIST SYSTEM'!E15 -> 0 | M12: =SUM(C12:L12) -> 0 | N12: =(M12/M$3)*100 -> 0 | O12: =(M12/M$3)*100 -> 0
A13: ='CLASSLIST SYSTEM'!B16 -> 0 | B13: ='CLASSLIST SYSTEM'!E16 -> 0 | M13: =SUM(C13:L13) -> 0 | N13: =(M13/M$3)*100 -> 0 | O13: =(M13/M$3)*100 -> 0
A14: ='CLASSLIST SYSTEM'!B17 -> 0 | B14: ='CLASSLIST SYSTEM'!E17 -> 0 | M14: =SUM(C14:L14) -> 0 | N14: =(M14/M$3)*100 -> 0 | O14: =(M14/M$3)*100 -> 0
A15: ='CLASSLIST SYSTEM'!B18 -> 0 | B15: ='CLASSLIST SYSTEM'!E18 -> 0 | M15: =SUM(C15:L15) -> 0 | N15: =(M15/M$3)*100 -> 0 | O15: =(M15/M$3)*100 -> 0
... A198: ='CLASSLIST SYSTEM'!B201 -> 0 | B198: ='CLASSLIST SYSTEM'!E201 -> 0 | M198: =SUM(C198:L198) -> 0 | N198: =(M198/M$3)*100 -> 0 | O198: =(M198/M$3)*100 -> 0
M199: =SUM(C199:L199) -> 0 | N199: =(M199/M$3)*100 -> 0 | O199: =(M199/M$3)*100 -> 0
M200: =SUM(C200:L200) -> 0 | N200: =(M200/M$3)*100 -> 0 | O200: =(M200/M$3)*100 -> 0

Sheet GRADE SHEET
A1: NAME OF STUDENTS | B1: STUDENT ID | C1: TOTAL COURSE WRK | D1: MID SEM EXAM | E1: END SEM EXAM | F1: CLASS ATTEND | G1: CLASS PARTICIP | H1: 35% COURSE WORK | I1: 25% MID EXAM | J1: 40% END SEM EXAM | K1: TOTAL SCORE | L1: (+/-) 10% COMBINE-CLASS ATT&PART | M1: F. SCORE % | N1: ROUND SCORE | O1: Grade
A2: ='COURSE WORK'!A4 -> 0 | B2: ='COURSE WORK'!B4 -> 0 | C2: ='COURSE WORK'!O4 -> 0 | H2: =35%*C2 -> 0 | I2: =25%*D2 -> 0 | J2: =40%*E2 -> 0 | K2: =SUM(H2:J2) -> 0 | L2: =((F2+G2)%)*K2 -> 0 | M2: =SUM(K2:L2) -> 0 | N2: =ROUNDUP(M2,0) -> 0 | O2: =LOOKUP(N2,{0,1,49,51,54,57,60,64,68,72,76,80,85,90,"i","w"},{"N","F","D-","D","D+","C-","C","C+","B-","B","B+","A-","A","A+","IC","W"}) -> 0
A3: ='COURSE WORK'!A5 -> 0 | B3: ='COURSE WORK'!B5 -> 0 | C3: ='COURSE WORK'!O5 -> 0 | H3: =35%*C3 -> 0 | I3: =25%*D3 -> 0 | J3: =40%*E3 -> 0 | K3: =SUM(H3:J3) -> 0 | L3: =((F3+G3)%)*K3 -> 0 | M3: =SUM(K3:L3) -> 0 | N3: =ROUNDUP(M3,0) -> 0 | O3: =LOOKUP(N3,{0,1,49,51,54,57,60,64,68,72,76,80,85,90,"i","w"},{"N","F","D-","D","D+","C-","C","C+","B-","B","B+","A-","A","A+","IC","W"}) -> 0
A4: ='COURSE WORK'!A6 -> 0 | B4: ='COURSE WORK'!B6 -> 0 | C4: ='COURSE WORK'!O6 -> 0 | H4: =35%*C4 -> 0 | I4: =25%*D4 -> 0 | J4: =40%*E4 -> 0 | K4: =SUM(H4:J4) -> 0 | L4: =((F4+G4)%)*K4 -> 0 | M4: =SUM(K4:L4) -> 0 | N4: =ROUNDUP(M4,0) -> 0 | O4: =LOOKUP(N4,{0,1,49,51,54,57,60,64,68,72,76,80,85,90,"i","w"},{"N","F","D-","D","D+","C-","C","C+","B-","B","B+","A-","A","A+","IC","W"}) -> 0
A5: ='COURSE WORK'!A7 -> 0 | B5: ='COURSE WORK'!B7 -> 0 | C5: ='COURSE WORK'!O7 -> 0 | H5: =35%*C5 -> 0 | I5: =25%*D5 -> 0 | J5: =40%*E5 -> 0 | K5: =SUM(H5:J5) -> 0 | L5: =((F5+G5)%)*K5 -> 0 | M5: =SUM(K5:L5) -> 0 | N5: =ROUNDUP(M5,0) -> 0 | O5: =LOOKUP(N5,{0,1,49,51,54,57,60,64,68,72,76,80,85,90,"i","w"},{"N","F","D-","D","D+","C-","C","C+","B-","B","B+","A-","A","A+","IC","W"}) -> 0
A6: ='COURSE WORK'!A8 -> 0 | B6: ='COURSE WORK'!B8 -> 0 | C6: ='COURSE WORK'!O8 -> 0 | H6: =35%*C6 -> 0 | I6: =25%*D6 -> 0 | J6: =40%*E6 -> 0 | K6: =SUM(H6:J6) -> 0 | L6: =((F6+G6)%)*K6 -> 0 | M6: =SUM(K6:L6) -> 0 | N6: =ROUNDUP(M6,0) -> 0 | O6: =LOOKUP(N6,{0,1,49,51,54,57,60,64,68,72,76,80,85,90,"i","w"},{"N","F","D-","D","D+","C-","C","C+","B-","B","B+","A-","A","A+","IC","W"}) -> 0
A7: ='COURSE WORK'!A9 -> 0 | B7: ='COURSE WORK'!B9 -> 0 | C7: ='COURSE WORK'!O9 -> 0 | H7: =35%*C7 -> 0 | I7: =25%*D7 -> 0 | J7: =40%*E7 -> 0 | K7: =SUM(H7:J7) -> 0 | L7: =((F7+G7)%)*K7 -> 0 | M7: =SUM(K7:L7) -> 0 | N7: =ROUNDUP(M7,0) -> 0 | O7: =LOOKUP(N7,{0,1,49,51,54,57,60,64,68,72,76,80,85,90,"i","w"},{"N","F","D-","D","D+","C-","C","C+","B-","B","B+","A-","A","A+","IC","W"}) -> 0
A8: ='COURSE WORK'!A10 -> 0 | B8: ='COURSE WORK'!B10 -> 0 | C8: ='COURSE WORK'!O10 -> 0 | H8: =35%*C8 -> 0 | I8: =25%*D8 -> 0 | J8: =40%*E8 -> 0 | K8: =SUM(H8:J8) -> 0 | L8: =((F8+G8)%)*K8 -> 0 | M8: =SUM(K8:L8) -> 0 | N8: =ROUNDUP(M8,0) -> 0 | O8: =LOOKUP(N8,{0,1,49,51,54,57,60,64,68,72,76,80,85,90,"i","w"},{"N","F","D-","D","D+","C-","C","C+","B-","B","B+","A-","A","A+","IC","W"}) -> 0
A9: ='COURSE WORK'!A11 -> 0 | B9: ='COURSE WORK'!B11 -> 0 | C9: ='COURSE WORK'!O11 -> 0 | H9: =35%*C9 -> 0 | I9: =25%*D9 -> 0 | J9: =40%*E9 -> 0 | K9: =SUM(H9:J9) -> 0 | L9: =((F9+G9)%)*K9 -> 0 | M9: =SUM(K9:L9) -> 0 | N9: =ROUNDUP(M9,0) -> 0 | O9: =LOOKUP(N9,{0,1,49,51,54,57,60,64,68,72,76,80,85,90,"i","w"},{"N","F","D-","D","D+","C-","C","C+","B-","B","B+","A-","A","A+","IC","W"}) -> 0
A10: ='COURSE WORK'!A12 -> 0 | B10: ='COURSE WORK'!B12 -> 0 | C10: ='COURSE WORK'!O12 -> 0 | H10: =35%*C10 -> 0 | I10: =25%*D10 -> 0 | J10: =40%*E10 -> 0 | K10: =SUM(H10:J10) -> 0 | L10: =((F10+G10)%)*K10 -> 0 | M10: =SUM(K10:L10) -> 0 | N10: =ROUNDUP(M10,0) -> 0 | O10: =LOOKUP(N10,{0,1,49,51,54,57,60,64,68,72,76,80,85,90,"i","w"},{"N","F","D-","D","D+","C-","C","C+","B-","B","B+","A-","A","A+","IC","W"}) -> 0
A11: ='COURSE WORK'!A13 -> 0 | B11: ='COURSE WORK'!B13 -> 0 | C11: ='COURSE WORK'!O13 -> 0 | H11: =35%*C11 -> 0 | I11: =25%*D11 -> 0 | J11: =40%*E11 -> 0 | K11: =SUM(H11:J11) -> 0 | L11: =((F11+G11)%)*K11 -> 0 | M11: =SUM(K11:L11) -> 0 | N11: =ROUNDUP(M11,0) -> 0 | O11: =LOOKUP(N11,{0,1,49,51,54,57,60,64,68,72,76,80,85,90,"i","w"},{"N","F","D-","D","D+","C-","C","C+","B-","B","B+","A-","A","A+","IC","W"}) -> 0
A12: ='COURSE WORK'!A14 -> 0 | B12: ='COURSE WORK'!B14 -> 0 | C12: ='COURSE WORK'!O14 -> 0 | H12: =35%*C12 -> 0 | I12: =25%*D12 -> 0 | J12: =40%*E12 -> 0 | K12: =SUM(H12:J12) -> 0 | L12: =((F12+G12)%)*K12 -> 0 | M12: =SUM(K12:L12) -> 0 | N12: =ROUNDUP(M12,0) -> 0 | O12: =LOOKUP(N12,{0,1,49,51,54,57,60,64,68,72,76,80,85,90,"i","w"},{"N","F","D-","D","D+","C-","C","C+","B-","B","B+","A-","A","A+","IC","W"}) -> 0
A13: ='COURSE WORK'!A15 -> 0 | B13: ='COURSE WORK'!B15 -> 0 | C13: ='COURSE WORK'!O15 -> 0 | H13: =35%*C13 -> 0 | I13: =25%*D13 -> 0 | J13: =40%*E13 -> 0 | K13: =SUM(H13:J13) -> 0 | L13: =((F13+G13)%)*K13 -> 0 | M13: =SUM(K13:L13) -> 0 | N13: =ROUNDUP(M13,0) -> 0 | O13: =LOOKUP(N13,{0,1,49,51,54,57,60,64,68,72,76,80,85,90,"i","w"},{"N","F","D-","D","D+","C-","C","C+","B-","B","B+","A-","A","A+","IC","W"}) -> 0
... A119: ='COURSE WORK'!A121 -> 0 | B119: ='COURSE WORK'!B121 -> 0 | C119: ='COURSE WORK'!O121 -> 0 | H119: =35%*C119 -> 0 | I119: =25%*D119 -> 0 | J119: =40%*E119 -> 0 | K119: =SUM(H119:J119) -> 0 | L119: =((F119+G119)%)*K119 -> 0 | M119: =SUM(K119:L119) -> 0 | N119: =ROUNDUP(M119,0) -> 0 | O119: =LOOKUP(N119,{0,1,49,51,54,57,60,64,68,72,76,80,85,90,"i","w"},{"N","F","D-","D","D+","C-","C","C+","B-","B","B+","A-","A","A+","IC","W"}) -> 0
H120: =35%*C120 -> 0 | I120: =25%*D120 -> 0 | J120: =40%*E120 -> 0 | K120: =SUM(H120:J120) -> 0 | L120: =((F120+G120)%)*K120 -> 0 | M120: =SUM(K120:L120) -> 0 | N120: =ROUNDUP(M120,0) -> 0 | O120: =LOOKUP(N120,{0,1,49,51,54,57,60,64,68,72,76,80,85,90,"i","w"},{"N","F","D-","D","D+","C-","C","C+","B-","B","B+","A-","A","A+","IC","W"}) -> 0
H121: =35%*C121 -> 0 | I121: =25%*D121 -> 0 | J121: =40%*E121 -> 0 | K121: =SUM(H121:J121) -> 0 | L121: =((F121+G121)%)*K121 -> 0 | M121: =SUM(K121:L121) -> 0 | N121: =ROUNDUP(M121,0) -> 0 | O121: =LOOKUP(N121,{0,1,49,51,54,57,60,64,68,72,76,80,85,90,"i","w"},{"N","F","D-","D","D+","C-","C","C+","B-","B","B+","A-","A","A+","IC","W"}) -> 0
H122: =35%*C122 -> 0 | I122: =25%*D122 -> 0 | J122: =40%*E122 -> 0 | K122: =SUM(H122:J122) -> 0 | L122: =((F122+G122)%)*K122 -> 0 | M122: =SUM(K122:L122) -> 0 | N122: =ROUNDUP(M122,0) -> 0 | O122: =LOOKUP(N122,{0,1,49,51,54,57,60,64,68,72,76,80,85,90,"i","w"},{"N","F","D-","D","D+","C-","C","C+","B-","B","B+","A-","A","A+","IC","W"}) -> 0
H123: =35%*C123 -> 0 | I123: =25%*D123 -> 0 | J123: =40%*E123 -> 0 | K123: =SUM(H123:J123) -> 0 | L123: =((F123+G123)%)*K123 -> 0 | M123: =SUM(K123:L123) -> 0 | N123: =ROUNDUP(M123,0) -> 0 | O123: =LOOKUP(N123,{0,1,49,51,54,57,60,64,68,72,76,80,85,90,"i","w"},{"N","F","D-","D","D+","C-","C","C+","B-","B","B+","A-","A","A+","IC","W"}) -> 0
H124: =35%*C124 -> 0 | I124: =25%*D124 -> 0 | J124: =40%*E124 -> 0 | K124: =SUM(H124:J124) -> 0 | L124: =((F124+G124)%)*K124 -> 0 | M124: =SUM(K124:L124) -> 0 | N124: =ROUNDUP(M124,0) -> 0 | O124: =LOOKUP(N124,{0,1,49,51,54,57,60,64,68,72,76,80,85,90,"i","w"},{"N","F","D-","D","D+","C-","C","C+","B-","B","B+","A-","A","A+","IC","W"}) -> 0
H125: =35%*C125 -> 0 | I125: =25%*D125 -> 0 | J125: =40%*E125 -> 0 | K125: =SUM(H125:J125) -> 0 | L125: =((F125+G125)%)*K125 -> 0 | M125: =SUM(K125:L125) -> 0 | N125: =ROUNDUP(M125,0) -> 0 | O125: =LOOKUP(N125,{0,1,49,51,54,57,60,64,68,72,76,80,85,90,"i","w"},{"N","F","D-","D","D+","C-","C","C+","B-","B","B+","A-","A","A+","IC","W"}) -> 0
H126: =35%*C126 -> 0 | I126: =25%*D126 -> 0 | J126: =40%*E126 -> 0 | K126: =SUM(H126:J126) -> 0 | L126: =((F126+G126)%)*K126 -> 0 | M126: =SUM(K126:L126) -> 0 | N126: =ROUNDUP(M126,0) -> 0 | O126: =LOOKUP(N126,{0,1,49,51,54,57,60,64,68,72,76,80,85,90,"i","w"},{"N","F","D-","D","D+","C-","C","C+","B-","B","B+","A-","A","A+","IC","W"}) -> 0
H127: =35%*C127 -> 0 | I127: =25%*D127 -> 0 | J127: =40%*E127 -> 0 | K127: =SUM(H127:J127) -> 0 | L127: =((F127+G127)%)*K127 -> 0 | M127: =SUM(K127:L127) -> 0 | N127: =ROUNDUP(M127,0) -> 0 | O127: =LOOKUP(N127,{0,1,49,51,54,57,60,64,68,72,76,80,85,90,"i","w"},{"N","F","D-","D","D+","C-","C","C+","B-","B","B+","A-","A","A+","IC","W"}) -> 0
H128: =35%*C128 -> 0 | I128: =25%*D128 -> 0 | J128: =40%*E128 -> 0 | K128: =SUM(H128:J128) -> 0 | L128: =((F128+G128)%)*K128 -> 0 | M128: =SUM(K128:L128) -> 0 | N128: =ROUNDUP(M128,0) -> 0 | O128: =LOOKUP(N128,{0,1,49,51,54,57,60,64,68,72,76,80,85,90,"i","w"},{"N","F","D-","D","D+","C-","C","C+","B-","B","B+","A-","A","A+","IC","W"}) -> 0

Sheet GRAPH
A3: Grade | B3: No. of Students
A4: A+ | B4: =COUNTIF('GRADE SHEET'!O2:O128,"A+") -> 0
A5: A | B5: =COUNTIF('GRADE SHEET'!O2:O128,"A") -> 0
A6: A- | B6: =COUNTIF('GRADE SHEET'!O2:O128,"A-") -> 0
A7: B+ | B7: =COUNTIF('GRADE SHEET'!O2:O128,"B+") -> 0
A8: B | B8: =COUNTIF('GRADE SHEET'!O2:O128,"B") -> 0
A9: B- | B9: =COUNTIF('GRADE SHEET'!O2:O128,"B-") -> 0
A10: C+ | B10: =COUNTIF('GRADE SHEET'!O2:O128,"C+") -> 0
A11: C | B11: =COUNTIF('GRADE SHEET'!O2:O128,"C") -> 0
A12: C- | B12: =COUNTIF('GRADE SHEET'!O2:O128,"C-") -> 0
A13: D+ | B13: =COUNTIF('GRADE SHEET'!O2:O128,"D+") -> 0
A14: D | B14: =COUNTIF('GRADE SHEET'!O2:O128,"D") -> 0
A15: D- | B15: =COUNTIF('GRADE SHEET'!O2:O128,"D-") -> 0
A16: F | B16: =COUNTIF('GRADE SHEET'!O2:O128,"F") -> 0
A17: IC | B17: =COUNTIF('GRADE SHEET'!O2:O128,"IC") -> 0
A18: Total | B18: =SUM(B4:B17) -> 0
B21: COURSEWORK | C21: MIDSEM | D21: EXAM | E21: TOTAL
A22: MIN | B22: =MIN('GRADE SHEET'!H2:H8) -> 0 | C22: =MIN('GRADE SHEET'!I2:I8) -> 0 | D22: =MIN('GRADE SHEET'!J2:J8) -> 0 | E22: =MIN('GRADE SHEET'!K2:K8) -> 0
A23: MAX | B23: =MAX('GRADE SHEET'!H2:H8) -> 0 | C23: =MAX('GRADE SHEET'!I2:I8) -> 0 | D23: =MAX('GRADE SHEET'!J2:J8) -> 0 | E23: =MAX('GRADE SHEET'!K2:K8) -> 0
A24: AVG | B24: =AVERAGE('GRADE SHEET'!H2:H8) -> 0 | C24: =AVERAGE('GRADE SHEET'!I2:I8) -> 0 | D24: =AVERAGE('GRADE SHEET'!J2:J8) -> 0 | E24: =AVERAGE('GRADE SHEET'!K2:K8) -> 0
A26: TOTAL FAILURE RATE
B27: =SUM(GRAPH!A12:A16,GRAPH!B12:B16)/GRAPH!B18 -> 0

Sheet CLASSLIST SYSTEM
A1: AIT COURSE WORK SCORE/GRADE RECORD FORM
A2: Browse Course
A3: Search
A4: Course Code: MS101 | B4: Semester : | C4: Session : | D4: Lecturer :
A5: # | B5: Name | E5: ID Number | H5: 1 | I5: 2 | J5: 3 | K5: 4 | L5: 5 | M5: 6 | N5: 7 | O5: 8 | P5: 9 | Q5: 10 | R5: 11 | S5: 12 | T5: 13 | U5: 14 | V5: 15 | W5: 16 | X5: 17 | Y5: 18 | Z5: Total
H6: 10 | I6: 10 | J6: 10 | K6: 10 | L6: 10 | M6: 10 | N6: 10 | O6: 10 | P6: 10 | Q6: 10 | R6: 10 | S6: 10 | T6: 10 | U6: 10 | V6: 10 | W6: 10 | X6: 10 | Y6: 10
A7: 1 | B7: ADOM GYIMAH FRANK | E7: ABS24B00068Y
A8: 2 | B8: ADUAKU YANKSON INNOCENTIA | E8: ABS23B00066Y
A9: 3 | B9: AGBESI JAMES | E9: ADS21B00303Y
A10: 4 | B10: AGYIN OTCHERE MICHAEL | E10: ABS24B00040Y
A11: 5 | B11: AKOTO RICHARD BOACHIE | E11: ABS22A00040Y
A12: 6 | B12: ALLOTEY JUSTINE | E12: ABS25B00007Y
A13: 7 | B13: AMPONSAH ODURO BISMARK | E13: ADS24A00039Y
A14: 8 | B14: ARYEETEY ANDREW | E14: ADS22B00326Y
A15: 9 | B15: AVORNYO ANGEL | E15: ABS23B00027Y
A16: 10 | B16: AYISAT ANIKE AYIKI | E16: ADS25B00115Y
A17: 11 | B17: BOYE ASAMOAH THEOPHILUS | E17: ABS25A00036Y
A18: 12 | B18: CHANCELLE YATASSAYE AMINATA | E18: ABS24B00053Y
... A37: 31 | B37: VIGBEDOR MIDAO | E37: ADS24B00011Y
A38: 32
A39: 33
A40: 34
A41: 35
A42: 36
A43: 37
A44: 38
A45: 39
A46: 40
A47: 41
A48: 42
A49: 43
... A136: 130

Sheet CLASS LIST(attendance)
C1: 1 | D1: 2 | E1: 3 | F1: 4 | G1: 5 | H1: 6 | I1: 7 | J1: 8 | K1: 9 | L1: 10 | M1: 11 | N1: 12 | O1: 13 | P1: 14 | Q1: 15 | R1: 16 | S1: TOTAL | T1: DECN | U1: %Attend

Sheet MID SEM SCORES
A1: NAME OF STUDENT | B1: STUDENT ID | C1: Q1 | D1: Q2 | E1: Q3 | F1: Q4 | G1: TOTAL
A2: ='COURSE WORK'!A4 -> 0 | B2: ='COURSE WORK'!B4 -> 0 | G2: =SUM(C2:F2) -> 0
A3: ='COURSE WORK'!A5 -> 0 | B3: ='COURSE WORK'!B5 -> 0 | G3: =SUM(C3:F3) -> 0
A4: ='COURSE WORK'!A6 -> 0 | B4: ='COURSE WORK'!B6 -> 0 | G4: =SUM(C4:F4) -> 0
A5: ='COURSE WORK'!A7 -> 0 | B5: ='COURSE WORK'!B7 -> 0 | G5: =SUM(C5:F5) -> 0
A6: ='COURSE WORK'!A8 -> 0 | B6: ='COURSE WORK'!B8 -> 0 | G6: =SUM(C6:F6) -> 0
A7: ='COURSE WORK'!A9 -> 0 | B7: ='COURSE WORK'!B9 -> 0 | G7: =SUM(C7:F7) -> 0
A8: ='COURSE WORK'!A10 -> 0 | B8: ='COURSE WORK'!B10 -> 0 | G8: =SUM(C8:F8) -> 0
A9: ='COURSE WORK'!A11 -> 0 | B9: ='COURSE WORK'!B11 -> 0 | G9: =SUM(C9:F9) -> 0
A10: ='COURSE WORK'!A12 -> 0 | B10: ='COURSE WORK'!B12 -> 0 | G10: =SUM(C10:F10) -> 0
A11: ='COURSE WORK'!A13 -> 0 | B11: ='COURSE WORK'!B13 -> 0 | G11: =SUM(C11:F11) -> 0
A12: ='COURSE WORK'!A14 -> 0 | B12: ='COURSE WORK'!B14 -> 0 | G12: =SUM(C12:F12) -> 0
A13: ='COURSE WORK'!A15 -> 0 | B13: ='COURSE WORK'!B15 -> 0 | G13: =SUM(C13:F13) -> 0
... A133: ='COURSE WORK'!A135 -> 0 | B133: ='COURSE WORK'!B135 -> 0 | G133: =SUM(C133:F133) -> 0
A134: ='COURSE WORK'!A136 -> 0 | B134: ='COURSE WORK'!B136 -> 0

Sheet EOS SCORES
A1: E | B1: STUDENT ID | C1: Q1 | D1: Q2 | E1: Q3 | F1: Q4 | G1: Q5 | H1: TOTAL
A2: ='COURSE WORK'!A4 -> 0 | B2: ='COURSE WORK'!B4 -> 0 | H2: =SUM(C2:G2) -> 0
A3: ='COURSE WORK'!A5 -> 0 | B3: ='COURSE WORK'!B5 -> 0 | H3: =SUM(C3:G3) -> 0
A4: ='COURSE WORK'!A6 -> 0 | B4: ='COURSE WORK'!B6 -> 0 | H4: =SUM(C4:G4) -> 0
A5: ='COURSE WORK'!A7 -> 0 | B5: ='COURSE WORK'!B7 -> 0 | H5: =SUM(C5:G5) -> 0
A6: ='COURSE WORK'!A8 -> 0 | B6: ='COURSE WORK'!B8 -> 0 | H6: =SUM(C6:G6) -> 0
A7: ='COURSE WORK'!A9 -> 0 | B7: ='COURSE WORK'!B9 -> 0 | H7: =SUM(C7:G7) -> 0
A8: ='COURSE WORK'!A10 -> 0 | B8: ='COURSE WORK'!B10 -> 0 | H8: =SUM(C8:G8) -> 0
A9: ='COURSE WORK'!A11 -> 0 | B9: ='COURSE WORK'!B11 -> 0 | H9: =SUM(C9:G9) -> 0
A10: ='COURSE WORK'!A12 -> 0 | B10: ='COURSE WORK'!B12 -> 0 | H10: =SUM(C10:G10) -> 0
A11: ='COURSE WORK'!A13 -> 0 | B11: ='COURSE WORK'!B13 -> 0 | H11: =SUM(C11:G11) -> 0
A12: ='COURSE WORK'!A14 -> 0 | B12: ='COURSE WORK'!B14 -> 0 | H12: =SUM(C12:G12) -> 0
A13: ='COURSE WORK'!A15 -> 0 | B13: ='COURSE WORK'!B15 -> 0 | H13: =SUM(C13:G13) -> 0
... A194: ='COURSE WORK'!A196 -> 0 | B194: ='COURSE WORK'!B196 -> 0 | H194: =SUM(C194:G194) -> 0
A195: ='COURSE WORK'!A197 -> 0 | B195: ='COURSE WORK'!B197 -> 0
