Workbook

Sheet COURSE WORK
F1: Course Work
C2: M1 | D2: M2 | E2: M3 | F2: M4 | G2: M5 | H2: M6 | I2: M7 | J2: M8 | K2: M9 | L2: M10 | M2: Total | O2: F. TOTAL
C3: 10 | D3: 10 | E3: 10 | F3: 10 | G3: 10 | H3: 10 | I3: 10 | J3: 10 | K3: 10 | L3: 10 | M3: =SUM(C3:L3) -> 0
A4: ='CLASSLIST SYSTEM'!B7 -> 0 | B4: ='CLASSLIST SYSTEM'!E7 -> 0 | M4: =SUM(C4:L4) -> 0 | N4: =(M4/M$3)*100 -> 0 | O4: =(M4/M$3)*100 -> 0
A5: ='CLASSLIST SYSTEM'!B8 -> 0 | B5: ='CLASSLIST SYSTEM'!E8 -> 0 | M5: =SUM(C5:L5) -> 0 | N5: =(M5/M$3)*100 -> 0 | O5: =(M5/M$3)*100 -> 0
A6: ='CLASSLIST SYSTEM'!B9 -> 0 | B6: ='CLASSLIST SYSTEM'!E9 -> 0 | M6: =SUM(C6:L6) -> 0 | N6: =(M6/M$3)*100 -> 0 | O6: =(M6/M$3)*100 -> 0
A7: ='CLASSLIST SYSTEM'!B10 -> 0 | B7: ='CLASSLIST SYSTEM'!E10 -> 0 | M7: =SUM(C7:L7) -> 0 | N7: =(M7/M$3)*100 -> 0 | O7: =(M7/M$3)*100 -> 0
A8: ='CLASSLIST SYSTEM'!B11 -> 0 | B8: ='CLASSLIST SYSTEM'!E11 -> 0 | M8: =SUM(C8:L8) -> 0 | N8: =(M8/M$3)*100 -> 0 | O8: =(M8/M$3)*100 -> 0
A9: ='CLASSLIST SYSTEM'!B12 -> 0 | B9: ='CLASSLIST SYSTEM'!E12 -> 0 | M9: =SUM(C9:L9) -> 0 | N9: =(M9/M$3)*100 -> 0 | O9: =(M9/M$3)*100 -> 0
A10: ='CLASSLIST SYSTEM'!B13 -> 0 | B10: ='CLASSLIST SYSTEM'!E13 -> 0 | M10: =SUM(C10:L10) -> 0 | N10: =(M10/M$3)*100 -> 0 | O10: =(M10/M$3)*100 -> 0
A11: ='CLASSLIST SYSTEM'!B14 -> 0 | B11: ='CLASSLIST SYSTEM'!E14 -> 0 | M11: =SUM(C11:L11) -> 0 | N11: =(M11/M$3)*100 -> 0 | O11: =(M11/M$3)*100 -> 0
A12: ='CLASSLIST SYSTEM'!B15 -> 0 | B12: ='CLASSLIST SYSTEM'!E15 -> 0 | M12: =SUM(C12:L12) -> 0 | N12: =(M12/M$3)*100 -> 0 | O12: =(M12/M$3)*100 -> 0
A13: ='CLASSLIST SYSTEM'!B16 -> 0 | B13: ='CLASSLIST SYSTEM'!E16 -> 0 | M13: =SUM(C13:L13) -> 0 | N13: =(M13/M$3)*100 -> 0 | O13: =(M13/M$3)*100 -> 0
A14: ='CLASSLIST SYSTEM'!B17 -> 0 | B14: ='CLASSLIST SYSTEM'!E17 -> 0 | M14: =SUM(C14:L14) -> 0 | N14: =(M14/M$3)*100 -> 0 | O14: =(M14/M$3)*100 -> 0
A15: ='CLASSLIST SYSTEM'!B18 -> 0 | B15: ='CLASSLIST SYSTEM'!E18 -> 0 | M15: =SUM(C15:L15) -> 0 | N15: =(M15/M$3)*100 -> 0 | O15: =(M15/M$3)*100 -> 0
... A200: ='CLASSLIST SYSTEM'!B203 -> 0 | B200: ='CLASSLIST SYSTEM'!E203 -> 0 | M200: =SUM(C200:L200) -> 0 | N200: =(M200/M$3)*100 -> 0 | O200: =(M200/M$3)*100 -> 0

Sheet GRADE SHEET
A1: NAME OF STUDENTS | B1: STUDENT ID | C1: TOTAL COURSE WRK | D1: TOTAL COURSE WRK (LAB) | E1: MID SEM EXAM | F1: END SEM EXAM | G1: END SEM EXAM (LAB) | H1: CLASS ATTEND | I1: CLASS PARTICIP | J1: 10.6% COURSE WORK | K1: 24.4% COURSE WORK (LAB) | L1: 20% MID EXAM | M1: 34.4% END SEM EXAM | N1: 5.6% END SEM EXAM (LAB) | O1: TOTAL SCORE | P1: (+/-) 10% COMBINE-CLASS ATT&PART | Q1: F. SCORE % | R1: ROUND SCORE | S1: Grade
A3: ='COURSE WORK'!A4 -> 0 | B3: ='COURSE WORK'!B4 -> 0 | J3: =10.6%*C3 -> 0 | K3: =24.4%*D3 -> 0 | L3: =25%*E3 -> 0 | M3: =34.4%*F3 -> 0 | N3: =5.6%*G3 -> 0 | O3: =SUM(J3:N3) -> 0 | P3: =((H3+I3)%)*O3 -> 0 | Q3: =SUM(O3:P3) -> 0 | R3: =ROUNDUP(Q3,0) -> 0 | S3: =LOOKUP(R3,{0,1,49,51,54,57,60,64,68,72,76,80,85,90,"i","w"},{"N","F","D-","D","D+","C-","C","C+","B-","B","B+","A-","A","A+","IC","W"}) -> 0
A4: ='COURSE WORK'!A5 -> 0 | B4: ='COURSE WORK'!B5 -> 0 | J4: =10.6%*C4 -> 0 | K4: =24.4%*D4 -> 0 | L4: =20%*E4 -> 0 | M4: =34.4%*F4 -> 0 | N4: =5%*G4 -> 0 | O4: =SUM(J4:N4) -> 0 | P4: =((H4+I4)%)*O4 -> 0 | Q4: =SUM(O4:P4) -> 0 | R4: =ROUNDUP(Q4,0) -> 0 | S4: =LOOKUP(R4,{0,1,49,51,54,57,60,64,68,72,76,80,85,90,"i","w"},{"N","F","D-","D","D+","C-","C","C+","B-","B","B+","A-","A","A+","IC","W"}) -> 0
A5: ='COURSE WORK'!A6 -> 0 | B5: ='COURSE WORK'!B6 -> 0 | J5: =10.6%*C5 -> 0 | K5: =24.4%*D5 -> 0 | L5: =20%*E5 -> 0 | M5: =34.4%*F5 -> 0 | N5: =5%*G5 -> 0 | O5: =SUM(J5:N5) -> 0 | P5: =((H5+I5)%)*O5 -> 0 | Q5: =SUM(O5:P5) -> 0 | R5: =ROUNDUP(Q5,0) -> 0 | S5: =LOOKUP(R5,{0,1,49,51,54,57,60,64,68,72,76,80,85,90,"i","w"},{"N","F","D-","D","D+","C-","C","C+","B-","B","B+","A-","A","A+","IC","W"}) -> 0
A6: ='COURSE WORK'!A7 -> 0 | B6: ='COURSE WORK'!B7 -> 0 | J6: =10.6%*C6 -> 0 | K6: =24.4%*D6 -> 0 | L6: =20%*E6 -> 0 | M6: =34.4%*F6 -> 0 | N6: =5%*G6 -> 0 | O6: =SUM(J6:N6) -> 0 | P6: =((H6+I6)%)*O6 -> 0 | Q6: =SUM(O6:P6) -> 0 | R6: =ROUNDUP(Q6,0) -> 0 | S6: =LOOKUP(R6,{0,1,49,51,54,57,60,64,68,72,76,80,85,90,"i","w"},{"N","F","D-","D","D+","C-","C","C+","B-","B","B+","A-","A","A+","IC","W"}) -> 0
A7: ='COURSE WORK'!A8 -> 0 | B7: ='COURSE WORK'!B8 -> 0 | J7: =10.6%*C7 -> 0 | K7: =24.4%*D7 -> 0 | L7: =20%*E7 -> 0 | M7: =34.4%*F7 -> 0 | N7: =5%*G7 -> 0 | O7: =SUM(J7:N7) -> 0 | P7: =((H7+I7)%)*O7 -> 0 | Q7: =SUM(O7:P7) -> 0 | R7: =ROUNDUP(Q7,0) -> 0 | S7: =LOOKUP(R7,{0,1,49,51,54,57,60,64,68,72,76,80,85,90,"i","w"},{"N","F","D-","D","D+","C-","C","C+","B-","B","B+","A-","A","A+","IC","W"}) -> 0
A8: ='COURSE WORK'!A9 -> 0 | B8: ='COURSE WORK'!B9 -> 0 | J8: =10.6%*C8 -> 0 | K8: =24.4%*D8 -> 0 | L8: =20%*E8 -> 0 | M8: =34.4%*F8 -> 0 | N8: =5%*G8 -> 0 | O8: =SUM(J8:N8) -> 0 | P8: =((H8+I8)%)*O8 -> 0 | Q8: =SUM(O8:P8) -> 0 | R8: =ROUNDUP(Q8,0) -> 0 | S8: =LOOKUP(R8,{0,1,49,51,54,57,60,64,68,72,76,80,85,90,"i","w"},{"N","F","D-","D","D+","C-","C","C+","B-","B","B+","A-","A","A+","IC","W"}) -> 0
A9: ='COURSE WORK'!A10 -> 0 | B9: ='COURSE WORK'!B10 -> 0 | J9: =10.6%*C9 -> 0 | K9: =24.4%*D9 -> 0 | L9: =20%*E9 -> 0 | M9: =34.4%*F9 -> 0 | N9: =5%*G9 -> 0 | O9: =SUM(J9:N9) -> 0 | P9: =((H9+I9)%)*O9 -> 0 | Q9: =SUM(O9:P9) -> 0 | R9: =ROUNDUP(Q9,0) -> 0 | S9: =LOOKUP(R9,{0,1,49,51,54,57,60,64,68,72,76,80,85,90,"i","w"},{"N","F","D-","D","D+","C-","C","C+","B-","B","B+","A-","A","A+","IC","W"}) -> 0
A10: ='COURSE WORK'!A11 -> 0 | B10: ='COURSE WORK'!B11 -> 0 | J10: =10.6%*C10 -> 0 | K10: =24.4%*D10 -> 0 | L10: =20%*E10 -> 0 | M10: =34.4%*F10 -> 0 | N10: =5%*G10 -> 0 | O10: =SUM(J10:N10) -> 0 | P10: =((H10+I10)%)*O10 -> 0 | Q10: =SUM(O10:P10) -> 0 | R10: =ROUNDUP(Q10,0) -> 0 | S10: =LOOKUP(R10,{0,1,49,51,54,57,60,64,68,72,76,80,85,90,"i","w"},{"N","F","D-","D","D+","C-","C","C+","B-","B","B+","A-","A","A+","IC","W"}) -> 0
A11: ='COURSE WORK'!A12 -> 0 | B11: ='COURSE WORK'!B12 -> 0 | J11: =10.6%*C11 -> 0 | K11: =24.4%*D11 -> 0 | L11: =20%*E11 -> 0 | M11: =34.4%*F11 -> 0 | N11: =5%*G11 -> 0 | O11: =SUM(J11:N11) -> 0 | P11: =((H11+I11)%)*O11 -> 0 | Q11: =SUM(O11:P11) -> 0 | R11: 0 | S11: =LOOKUP(R11,{0,1,49,51,54,57,60,64,68,72,76,80,85,90,"i","w"},{"N","F","D-","D","D+","C-","C","C+","B-","B","B+","A-","A","A+","IC","W"}) -> 0
A12: ='COURSE WORK'!A13 -> 0 | B12: ='COURSE WORK'!B13 -> 0 | J12: =10.6%*C12 -> 0 | K12: =24.4%*D12 -> 0 | L12: =20%*E12 -> 0 | M12: =34.4%*F12 -> 0 | N12: =5%*G12 -> 0 | O12: =SUM(J12:N12) -> 0 | P12: =((H12+I12)%)*O12 -> 0 | Q12: =SUM(O12:P12) -> 0 | R12: =ROUNDUP(Q12,0) -> 0 | S12: =LOOKUP(R12,{0,1,49,51,54,57,60,64,68,72,76,80,85,90,"i","w"},{"N","F","D-","D","D+","C-","C","C+","B-","B","B+","A-","A","A+","IC","W"}) -> 0
A13: ='COURSE WORK'!A14 -> 0 | B13: ='COURSE WORK'!B14 -> 0 | J13: =10.6%*C13 -> 0 | K13: =24.4%*D13 -> 0 | L13: =20%*E13 -> 0 | M13: =34.4%*F13 -> 0 | N13: =5%*G13 -> 0 | O13: =SUM(J13:N13) -> 0 | P13: =((H13+I13)%)*O13 -> 0 | Q13: =SUM(O13:P13) -> 0 | R13: =ROUNDUP(Q13,0) -> 0 | S13: =LOOKUP(R13,{0,1,49,51,54,57,60,64,68,72,76,80,85,90,"i","w"},{"N","F","D-","D","D+","C-","C","C+","B-","B","B+","A-","A","A+","IC","W"}) -> 0
A14: ='COURSE WORK'!A15 -> 0 | B14: ='COURSE WORK'!B15 -> 0 | J14: =10.6%*C14 -> 0 | K14: =24.4%*D14 -> 0 | L14: =20%*E14 -> 0 | M14: =34.4%*F14 -> 0 | N14: =5%*G14 -> 0 | O14: =SUM(J14:N14) -> 0 | P14: =((H14+I14)%)*O14 -> 0 | Q14: =SUM(O14:P14) -> 0 | R14: =ROUNDUP(Q14,0) -> 0 | S14: =LOOKUP(R14,{0,1,49,51,54,57,60,64,68,72,76,80,85,90,"i","w"},{"N","F","D-","D","D+","C-","C","C+","B-","B","B+","A-","A","A+","IC","W"}) -> 0
A15: ='COURSE WORK'!A16 -> 0 | B15: ='COURSE WORK'!B16 -> 0 | J15: =10.6%*C15 -> 0 | K15: =24.4%*D15 -> 0 | L15: =20%*E15 -> 0 | M15: =34.4%*F15 -> 0 | N15: =5%*G15 -> 0 | O15: =SUM(J15:N15) -> 0 | P15: =((H15+I15)%)*O15 -> 0 | Q15: =SUM(O15:P15) -> 0 | R15: =ROUNDUP(Q15,0) -> 0 | S15: =LOOKUP(R15,{0,1,49,51,54,57,60,64,68,72,76,80,85,90,"i","w"},{"N","F","D-","D","D+","C-","C","C+","B-","B","B+","A-","A","A+","IC","W"}) -> 0
A16: ='COURSE WORK'!A17 -> 0 | B16: ='COURSE WORK'!B17 -> 0 | J16: =10.6%*C16 -> 0 | K16: =24.4%*D16 -> 0 | L16: =20%*E16 -> 0 | M16: =34.4%*F16 -> 0 | N16: =5%*G16 -> 0 | O16: =SUM(J16:N16) -> 0 | P16: =((H16+I16)%)*O16 -> 0 | Q16: =SUM(O16:P16) -> 0 | R16: =ROUNDUP(Q16,0) -> 0 | S16: =LOOKUP(R16,{0,1,49,51,54,57,60,64,68,72,76,80,85,90,"i","w"},{"N","F","D-","D","D+","C-","C","C+","B-","B","B+","A-","A","A+","IC","W"}) -> 0
A17: ='COURSE WORK'!A18 -> 0 | B17: ='COURSE WORK'!B18 -> 0 | J17: =10.6%*C17 -> 0 | K17: =24.4%*D17 -> 0 | L17: =20%*E17 -> 0 | M17: =34.4%*F17 -> 0 | N17: =5%*G17 -> 0 | O17: =SUM(J17:N17) -> 0 | P17: =((H17+I17)%)*O17 -> 0 | Q17: =SUM(O17:P17) -> 0 | R17: =ROUNDUP(Q17,0) -> 0 | S17: =LOOKUP(R17,{0,1,49,51,54,57,60,64,68,72,76,80,85,90,"i","w"},{"N","F","D-","D","D+","C-","C","C+","B-","B","B+","A-","A","A+","IC","W"}) -> 0
A18: ='COURSE WORK'!A19 -> 0 | B18: ='COURSE WORK'!B19 -> 0 | J18: =10.6%*C18 -> 0 | K18: =24.4%*D18 -> 0 | L18: =20%*E18 -> 0 | M18: =34.4%*F18 -> 0 | N18: =5%*G18 -> 0 | O18: =SUM(J18:N18) -> 0 | P18: =((H18+I18)%)*O18 -> 0 | Q18: =SUM(O18:P18) -> 0 | R18: =ROUNDUP(Q18,0) -> 0 | S18: =LOOKUP(R18,{0,1,49,51,54,57,60,64,68,72,76,80,85,90,"i","w"},{"N","F","D-","D","D+","C-","C","C+","B-","B","B+","A-","A","A+","IC","W"}) -> 0
A19: ='COURSE WORK'!A20 -> 0 | B19: ='COURSE WORK'!B20 -> 0 | J19: =10.6%*C19 -> 0 | K19: =24.4%*D19 -> 0 | L19: =20%*E19 -> 0 | M19: =34.4%*F19 -> 0 | N19: =5%*G19 -> 0 | O19: =SUM(J19:N19) -> 0 | P19: =((H19+I19)%)*O19 -> 0 | Q19: =SUM(O19:P19) -> 0 | R19: =ROUNDUP(Q19,0) -> 0 | S19: =LOOKUP(R19,{0,1,49,51,54,57,60,64,68,72,76,80,85,90,"i","w"},{"N","F","D-","D","D+","C-","C","C+","B-","B","B+","A-","A","A+","IC","W"}) -> 0
A20: ='COURSE WORK'!A21 -> 0 | B20: ='COURSE WORK'!B21 -> 0 | J20: =10.6%*C20 -> 0 | K20: =24.4%*D20 -> 0 | L20: =20%*E20 -> 0 | M20: =34.4%*F20 -> 0 | N20: =5%*G20 -> 0 | O20: =SUM(J20:N20) -> 0 | P20: =((H20+I20)%)*O20 -> 0 | Q20: =SUM(O20:P20) -> 0 | R20: =ROUNDUP(Q20,0) -> 0 | S20: =LOOKUP(R20,{0,1,49,51,54,57,60,64,68,72,76,80,85,90,"i","w"},{"N","F","D-","D","D+","C-","C","C+","B-","B","B+","A-","A","A+","IC","W"}) -> 0
A21: ='COURSE WORK'!A22 -> 0 | B21: ='COURSE WORK'!B22 -> 0 | J21: =10.6%*C21 -> 0 | K21: =24.4%*D21 -> 0 | L21: =20%*E21 -> 0 | M21: =34.4%*F21 -> 0 | N21: =5%*G21 -> 0 | O21: =SUM(J21:N21) -> 0 | P21: =((H21+I21)%)*O21 -> 0 | Q21: =SUM(O21:P21) -> 0 | R21: =ROUNDUP(Q21,0) -> 0 | S21: =LOOKUP(R21,{0,1,49,51,54,57,60,64,68,72,76,80,85,90,"i","w"},{"N","F","D-","D","D+","C-","C","C+","B-","B","B+","A-","A","A+","IC","W"}) -> 0
A22: ='COURSE WORK'!A23 -> 0 | B22: ='COURSE WORK'!B23 -> 0 | J22: =10.6%*C22 -> 0 | K22: =24.4%*D22 -> 0 | L22: =20%*E22 -> 0 | M22: =34.4%*F22 -> 0 | N22: =5%*G22 -> 0 | O22: =SUM(J22:N22) -> 0 | P22: =((H22+I22)%)*O22 -> 0 | Q22: =SUM(O22:P22) -> 0 | R22: =ROUNDUP(Q22,0) -> 0 | S22: =LOOKUP(R22,{0,1,49,51,54,57,60,64,68,72,76,80,85,90,"i","w"},{"N","F","D-","D","D+","C-","C","C+","B-","B","B+","A-","A","A+","IC","W"}) -> 0
A23: ='COURSE WORK'!A24 -> 0 | B23: ='COURSE WORK'!B24 -> 0 | J23: =10.6%*C23 -> 0 | K23: =24.4%*D23 -> 0 | L23: =20%*E23 -> 0 | M23: =34.4%*F23 -> 0 | N23: =5%*G23 -> 0 | O23: =SUM(J23:N23) -> 0 | P23: =((H23+I23)%)*O23 -> 0 | Q23: =SUM(O23:P23) -> 0 | R23: =ROUNDUP(Q23,0) -> 0 | S23: =LOOKUP(R23,{0,1,49,51,54,57,60,64,68,72,76,80,85,90,"i","w"},{"N","F","D-","D","D+","C-","C","C+","B-","B","B+","A-","A","A+","IC","W"}) -> 0
... A43: ='COURSE WORK'!A44 -> 0 | B43: ='COURSE WORK'!B44 -> 0 | J43: =10.6%*C43 -> 0 | K43: =24.4%*D43 -> 0 | L43: =20%*E43 -> 0 | M43: =34.4%*F43 -> 0 | N43: =5%*G43 -> 0 | O43: =SUM(J43:N43) -> 0 | P43: =((H43+I43)%)*O43 -> 0 | Q43: =SUM(O43:P43) -> 0 | R43: =ROUNDUP(Q43,0) -> 0 | S43: =LOOKUP(R43,{0,1,49,51,54,57,60,64,68,72,76,80,85,90,"i","w"},{"N","F","D-","D","D+","C-","C","C+","B-","B","B+","A-","A","A+","IC","W"}) -> 0
A44: ='COURSE WORK'!A45 -> 0 | B44: ='COURSE WORK'!B45 -> 0 | J44: =10.6%*C44 -> 0 | K44: =24.4%*D44 -> 0 | L44: =20%*E44 -> 0 | M44: =34.4%*F44 -> 0 | N44: =5%*G44 -> 0 | O44: =SUM(J44:N44) -> 0 | P44: =((H44+I44)%)*O44 -> 0 | Q44: =SUM(O44:P44) -> 0 | R44: 0 | S44: =LOOKUP(R44,{0,1,49,51,54,57,60,64,68,72,76,80,85,90,"i","w"},{"N","F","D-","D","D+","C-","C","C+","B-","B","B+","A-","A","A+","IC","W"}) -> 0
A45: ='COURSE WORK'!A46 -> 0 | B45: ='COURSE WORK'!B46 -> 0 | J45: =10.6%*C45 -> 0 | K45: =24.4%*D45 -> 0 | L45: =20%*E45 -> 0 | M45: =34.4%*F45 -> 0 | N45: =5%*G45 -> 0 | O45: =SUM(J45:N45) -> 0 | P45: =((H45+I45)%)*O45 -> 0 | Q45: =SUM(O45:P45) -> 0 | R45: =ROUNDUP(Q45,0) -> 0 | S45: =LOOKUP(R45,{0,1,49,51,54,57,60,64,68,72,76,80,85,90,"i","w"},{"N","F","D-","D","D+","C-","C","C+","B-","B","B+","A-","A","A+","IC","W"}) -> 0
A46: ='COURSE WORK'!A47 -> 0 | B46: ='COURSE WORK'!B47 -> 0 | J46: =10.6%*C46 -> 0 | K46: =24.4%*D46 -> 0 | L46: =20%*E46 -> 0 | M46: =34.4%*F46 -> 0 | N46: =5%*G46 -> 0 | O46: =SUM(J46:N46) -> 0 | P46: =((H46+I46)%)*O46 -> 0 | Q46: =SUM(O46:P46) -> 0 | R46: =ROUNDUP(Q46,0) -> 0 | S46: =LOOKUP(R46,{0,1,49,51,54,57,60,64,68,72,76,80,85,90,"i","w"},{"N","F","D-","D","D+","C-","C","C+","B-","B","B+","A-","A","A+","IC","W"}) -> 0
A47: ='COURSE WORK'!A48 -> 0 | B47: ='COURSE WORK'!B48 -> 0 | J47: =10.6%*C47 -> 0 | K47: =24.4%*D47 -> 0 | L47: =20%*E47 -> 0 | M47: =34.4%*F47 -> 0 | N47: =5%*G47 -> 0 | O47: =SUM(J47:N47) -> 0 | P47: =((H47+I47)%)*O47 -> 0 | Q47: =SUM(O47:P47) -> 0 | R47: =ROUNDUP(Q47,0) -> 0 | S47: =LOOKUP(R47,{0,1,49,51,54,57,60,64,68,72,76,80,85,90,"i","w"},{"N","F","D-","D","D+","C-","C","C+","B-","B","B+","A-","A","A+","IC","W"}) -> 0
A48: ='COURSE WORK'!A49 -> 0 | B48: ='COURSE WORK'!B49 -> 0 | J48: =10.6%*C48 -> 0 | K48: =24.4%*D48 -> 0 | L48: =20%*E48 -> 0 | M48: =34.4%*F48 -> 0 | N48: =5%*G48 -> 0 | O48: =SUM(J48:N48) -> 0 | P48: =((H48+I48)%)*O48 -> 0 | Q48: =SUM(O48:P48) -> 0 | R48: =ROUNDUP(Q48,0) -> 0 | S48: =LOOKUP(R48,{0,1,49,51,54,57,60,64,68,72,76,80,85,90,"i","w"},{"N","F","D-","D","D+","C-","C","C+","B-","B","B+","A-","A","A+","IC","W"}) -> 0
A49: ='COURSE WORK'!A50 -> 0 | B49: ='COURSE WORK'!B50 -> 0 | J49: =10.6%*C49 -> 0 | K49: =24.4%*D49 -> 0 | L49: =20%*E49 -> 0 | M49: =34.4%*F49 -> 0 | N49: =5%*G49 -> 0 | O49: =SUM(J49:N49) -> 0 | P49: =((H49+I49)%)*O49 -> 0 | Q49: =SUM(O49:P49) -> 0 | R49: =ROUNDUP(Q49,0) -> 0 | S49: =LOOKUP(R49,{0,1,49,51,54,57,60,64,68,72,76,80,85,90,"i","w"},{"N","F","D-","D","D+","C-","C","C+","B-","B","B+","A-","A","A+","IC","W"}) -> 0
A50: ='COURSE WORK'!A51 -> 0 | B50: ='COURSE WORK'!B51 -> 0 | J50: =10.6%*C50 -> 0 | K50: =24.4%*D50 -> 0 | L50: =20%*E50 -> 0 | M50: =34.4%*F50 -> 0 | N50: =5%*G50 -> 0 | O50: =SUM(J50:N50) -> 0 | P50: =((H50+I50)%)*O50 -> 0 | Q50: =SUM(O50:P50) -> 0 | R50: =ROUNDUP(Q50,0) -> 0 | S50: =LOOKUP(R50,{0,1,49,51,54,57,60,64,68,72,76,80,85,90,"i","w"},{"N","F","D-","D","D+","C-","C","C+","B-","B","B+","A-","A","A+","IC","W"}) -> 0
A51: ='COURSE WORK'!A52 -> 0 | B51: ='COURSE WORK'!B52 -> 0 | J51: =10.6%*C51 -> 0 | K51: =24.4%*D51 -> 0 | L51: =20%*E51 -> 0 | M51: =34.4%*F51 -> 0 | N51: =5%*G51 -> 0 | O51: =SUM(J51:N51) -> 0 | P51: =((H51+I51)%)*O51 -> 0 | Q51: =SUM(O51:P51) -> 0 | R51: =ROUNDUP(Q51,0) -> 0 | S51: =LOOKUP(R51,{0,1,49,51,54,57,60,64,68,72,76,80,85,90,"i","w"},{"N","F","D-","D","D+","C-","C","C+","B-","B","B+","A-","A","A+","IC","W"}) -> 0
A52: ='COURSE WORK'!A53 -> 0 | B52: ='COURSE WORK'!B53 -> 0 | J52: =10.6%*C52 -> 0 | K52: =24.4%*D52 -> 0 | L52: =20%*E52 -> 0 | M52: =34.4%*F52 -> 0 | N52: =5%*G52 -> 0 | O52: =SUM(J52:N52) -> 0 | P52: =((H52+I52)%)*O52 -> 0 | Q52: =SUM(O52:P52) -> 0 | R52: =ROUNDUP(Q52,0) -> 0 | S52: =LOOKUP(R52,{0,1,49,51,54,57,60,64,68,72,76,80,85,90,"i","w"},{"N","F","D-","D","D+","C-","C","C+","B-","B","B+","A-","A","A+","IC","W"}) -> 0
A53: ='COURSE WORK'!A54 -> 0 | B53: ='COURSE WORK'!B54 -> 0 | J53: =10.6%*C53 -> 0 | K53: =24.4%*D53 -> 0 | L53: =20%*E53 -> 0 | M53: =34.4%*F53 -> 0 | N53: =5%*G53 -> 0 | O53: =SUM(J53:N53) -> 0 | P53: =((H53+I53)%)*O53 -> 0 | Q53: =SUM(O53:P53) -> 0 | R53: =ROUNDUP(Q53,0) -> 0 | S53: =LOOKUP(R53,{0,1,49,51,54,57,60,64,68,72,76,80,85,90,"i","w"},{"N","F","D-","D","D+","C-","C","C+","B-","B","B+","A-","A","A+","IC","W"}) -> 0
A54: ='COURSE WORK'!A55 -> 0 | B54: ='COURSE WORK'!B55 -> 0 | J54: =10.6%*C54 -> 0 | K54: =24.4%*D54 -> 0 | L54: =20%*E54 -> 0 | M54: =34.4%*F54 -> 0 | N54: =5%*G54 -> 0 | O54: =SUM(J54:N54) -> 0 | P54: =((H54+I54)%)*O54 -> 0 | Q54: =SUM(O54:P54) -> 0 | R54: =ROUNDUP(Q54,0) -> 0 | S54: =LOOKUP(R54,{0,1,49,51,54,57,60,64,68,72,76,80,85,90,"i","w"},{"N","F","D-","D","D+","C-","C","C+","B-","B","B+","A-","A","A+","IC","W"}) -> 0
A55: ='COURSE WORK'!A56 -> 0 | B55: ='COURSE WORK'!B56 -> 0 | J55: =10.6%*C55 -> 0 | K55: =24.4%*D55 -> 0 | L55: =20%*E55 -> 0 | M55: =34.4%*F55 -> 0 | N55: =5%*G55 -> 0 | O55: =SUM(J55:N55) -> 0 | P55: =((H55+I55)%)*O55 -> 0 | Q55: =SUM(O55:P55) -> 0 | R55: =ROUNDUP(Q55,0) -> 0 | S55: =LOOKUP(R55,{0,1,49,51,54,57,60,64,68,72,76,80,85,90,"i","w"},{"N","F","D-","D","D+","C-","C","C+","B-","B","B+","A-","A","A+","IC","W"}) -> 0
A56: ='COURSE WORK'!A57 -> 0 | B56: ='COURSE WORK'!B57 -> 0 | J56: =10.6%*C56 -> 0 | K56: =24.4%*D56 -> 0 | L56: =20%*E56 -> 0 | M56: =34.4%*F56 -> 0 | N56: =5%*G56 -> 0 | O56: =SUM(J56:N56) -> 0 | P56: =((H56+I56)%)*O56 -> 0 | Q56: =SUM(O56:P56) -> 0 | R56: =ROUNDUP(Q56,0) -> 0 | S56: =LOOKUP(R56,{0,1,49,51,54,57,60,64,68,72,76,80,85,90,"i","w"},{"N","F","D-","D","D+","C-","C","C+","B-","B","B+","A-","A","A+","IC","W"}) -> 0
... A238: ='COURSE WORK'!A239 -> 0 | B238: ='COURSE WORK'!B239 -> 0 | J238: =10.6%*C238 -> 0 | K238: =24.4%*D238 -> 0 | L238: =20%*E238 -> 0 | M238: =34.4%*F238 -> 0 | N238: =5%*G238 -> 0 | O238: =SUM(J238:N238) -> 0 | P238: =((H238+I238)%)*O238 -> 0 | Q238: =SUM(O238:P238) -> 0 | R238: =ROUNDUP(Q238,0) -> 0 | S238: =LOOKUP(R238,{0,1,49,51,54,57,60,64,68,72,76,80,85,90,"i","w"},{"N","F","D-","D","D+","C-","C","C+","B-","B","B+","A-","A","A+","IC","W"}) -> 0
A239: ='COURSE WORK'!A240 -> 0 | B239: ='COURSE WORK'!B240 -> 0 | C239: ='COURSE WORK'!O240 -> 0 | J239: =10.6%*C239 -> 0 | K239: =24.4%*D239 -> 0 | L239: =20%*E239 -> 0 | M239: =35%*F239 -> 0 | N239: =5%*G239 -> 0 | O239: =SUM(J239:N239) -> 0 | P239: =((H239+I239)%)*O239 -> 0 | Q239: =SUM(O239:P239) -> 0 | R239: =ROUNDUP(Q239,0) -> 0 | S239: =LOOKUP(R239,{0,1,49,51,54,57,60,64,68,72,76,80,85,90,"i","w"},{"N","F","D-","D","D+","C-","C","C+","B-","B","B+","A-","A","A+","IC","W"}) -> 0
A240: ='COURSE WORK'!A241 -> 0 | B240: ='COURSE WORK'!B241 -> 0 | C240: ='COURSE WORK'!O241 -> 0 | J240: =10.6%*C240 -> 0 | K240: =24.4%*D240 -> 0 | L240: =20%*E240 -> 0 | M240: =35%*F240 -> 0 | N240: =5%*G240 -> 0 | O240: =SUM(J240:N240) -> 0 | P240: =((H240+I240)%)*O240 -> 0 | Q240: =SUM(O240:P240) -> 0 | R240: =ROUNDUP(Q240,0) -> 0 | S240: =LOOKUP(R240,{0,1,49,51,54,57,60,64,68,72,76,80,85,90,"i","w"},{"N","F","D-","D","D+","C-","C","C+","B-","B","B+","A-","A","A+","IC","W"}) -> 0
A241: ='COURSE WORK'!A242 -> 0 | B241: ='COURSE WORK'!B242 -> 0 | C241: ='COURSE WORK'!O242 -> 0 | J241: =10.6%*C241 -> 0 | K241: =24.4%*D241 -> 0 | L241: =20%*E241 -> 0 | M241: =35%*F241 -> 0 | N241: =5%*G241 -> 0 | O241: =SUM(J241:N241) -> 0 | P241: =((H241+I241)%)*O241 -> 0 | Q241: =SUM(O241:P241) -> 0 | R241: =ROUNDUP(Q241,0) -> 0 | S241: =LOOKUP(R241,{0,1,49,51,54,57,60,64,68,72,76,80,85,90,"i","w"},{"N","F","D-","D","D+","C-","C","C+","B-","B","B+","A-","A","A+","IC","W"}) -> 0
A242: ='COURSE WORK'!A243 -> 0 | B242: ='COURSE WORK'!B243 -> 0 | C242: ='COURSE WORK'!O243 -> 0 | J242: =10.6%*C242 -> 0 | K242: =24.4%*D242 -> 0 | L242: =20%*E242 -> 0 | M242: =35%*F242 -> 0 | N242: =5%*G242 -> 0 | O242: =SUM(J242:N242) -> 0 | P242: =((H242+I242)%)*O242 -> 0 | Q242: =SUM(O242:P242) -> 0 | R242: =ROUNDUP(Q242,0) -> 0 | S242: =LOOKUP(R242,{0,1,49,51,54,57,60,64,68,72,76,80,85,90,"i","w"},{"N","F","D-","D","D+","C-","C","C+","B-","B","B+","A-","A","A+","IC","W"}) -> 0
A243: ='COURSE WORK'!A244 -> 0 | B243: ='COURSE WORK'!B244 -> 0 | C243: ='COURSE WORK'!O244 -> 0 | J243: =10.6%*C243 -> 0 | K243: =24.4%*D243 -> 0 | L243: =20%*E243 -> 0 | M243: =35%*F243 -> 0 | N243: =5%*G243 -> 0 | O243: =SUM(J243:N243) -> 0 | P243: =((H243+I243)%)*O243 -> 0 | Q243: =SUM(O243:P243) -> 0 | R243: =ROUNDUP(Q243,0) -> 0 | S243: =LOOKUP(R243,{0,1,49,51,54,57,60,64,68,72,76,80,85,90,"i","w"},{"N","F","D-","D","D+","C-","C","C+","B-","B","B+","A-","A","A+","IC","W"}) -> 0
A244: ='COURSE WORK'!A245 -> 0 | B244: ='COURSE WORK'!B245 -> 0 | C244: ='COURSE WORK'!O245 -> 0 | J244: =10.6%*C244 -> 0 | K244: =24.4%*D244 -> 0 | L244: =20%*E244 -> 0 | M244: =35%*F244 -> 0 | N244: =5%*G244 -> 0 | O244: =SUM(J244:N244) -> 0 | P244: =((H244+I244)%)*O244 -> 0 | Q244: =SUM(O244:P244) -> 0 | R244: =ROUNDUP(Q244,0) -> 0 | S244: =LOOKUP(R244,{0,1,49,51,54,57,60,64,68,72,76,80,85,90,"i","w"},{"N","F","D-","D","D+","C-","C","C+","B-","B","B+","A-","A","A+","IC","W"}) -> 0
A245: ='COURSE WORK'!A246 -> 0 | B245: ='COURSE WORK'!B246 -> 0 | C245: ='COURSE WORK'!O246 -> 0 | J245: =10.6%*C245 -> 0 | K245: =24.4%*D245 -> 0 | L245: =20%*E245 -> 0 | M245: =35%*F245 -> 0 | N245: =5%*G245 -> 0 | O245: =SUM(J245:N245) -> 0 | P245: =((H245+I245)%)*O245 -> 0 | Q245: =SUM(O245:P245) -> 0 | R245: =ROUNDUP(Q245,0) -> 0 | S245: =LOOKUP(R245,{0,1,49,51,54,57,60,64,68,72,76,80,85,90,"i","w"},{"N","F","D-","D","D+","C-","C","C+","B-","B","B+","A-","A","A+","IC","W"}) -> 0
A246: ='COURSE WORK'!A247 -> 0 | B246: ='COURSE WORK'!B247 -> 0 | C246: ='COURSE WORK'!O247 -> 0 | J246: =10.6%*C246 -> 0 | K246: =24.4%*D246 -> 0 | L246: =20%*E246 -> 0 | M246: =35%*F246 -> 0 | N246: =5%*G246 -> 0 | O246: =SUM(J246:N246) -> 0 | P246: =((H246+I246)%)*O246 -> 0 | Q246: =SUM(O246:P246) -> 0 | R246: =ROUNDUP(Q246,0) -> 0 | S246: =LOOKUP(R246,{0,1,49,51,54,57,60,64,68,72,76,80,85,90,"i","w"},{"N","F","D-","D","D+","C-","C","C+","B-","B","B+","A-","A","A+","IC","W"}) -> 0
A247: ='COURSE WORK'!A248 -> 0 | B247: ='COURSE WORK'!B248 -> 0 | C247: ='COURSE WORK'!O248 -> 0 | J247: =10.6%*C247 -> 0 | K247: =24.4%*D247 -> 0 | L247: =20%*E247 -> 0 | M247: =35%*F247 -> 0 | N247: =5%*G247 -> 0 | O247: =SUM(J247:N247) -> 0 | P247: =((H247+I247)%)*O247 -> 0 | Q247: =SUM(O247:P247) -> 0 | R247: =ROUNDUP(Q247,0) -> 0 | S247: =LOOKUP(R247,{0,1,49,51,54,57,60,64,68,72,76,80,85,90,"i","w"},{"N","F","D-","D","D+","C-","C","C+","B-","B","B+","A-","A","A+","IC","W"}) -> 0
A248: ='COURSE WORK'!A249 -> 0 | B248: ='COURSE WORK'!B249 -> 0 | C248: ='COURSE WORK'!O249 -> 0 | J248: =10.6%*C248 -> 0 | K248: =24.4%*D248 -> 0 | L248: =20%*E248 -> 0 | M248: =35%*F248 -> 0 | N248: =5%*G248 -> 0 | O248: =SUM(J248:N248) -> 0 | P248: =((H248+I248)%)*O248 -> 0 | Q248: =SUM(O248:P248) -> 0 | R248: =ROUNDUP(Q248,0) -> 0 | S248: =LOOKUP(R248,{0,1,49,51,54,57,60,64,68,72,76,80,85,90,"i","w"},{"N","F","D-","D","D+","C-","C","C+","B-","B","B+","A-","A","A+","IC","W"}) -> 0
A249: ='COURSE WORK'!A250 -> 0 | B249: ='COURSE WORK'!B250 -> 0 | C249: ='COURSE WORK'!O250 -> 0 | J249: =10.6%*C249 -> 0 | K249: =24.4%*D249 -> 0 | L249: =20%*E249 -> 0 | M249: =35%*F249 -> 0 | N249: =5%*G249 -> 0 | O249: =SUM(J249:N249) -> 0 | P249: =((H249+I249)%)*O249 -> 0 | Q249: =SUM(O249:P249) -> 0 | R249: =ROUNDUP(Q249,0) -> 0 | S249: =LOOKUP(R249,{0,1,49,51,54,57,60,64,68,72,76,80,85,90,"i","w"},{"N","F","D-","D","D+","C-","C","C+","B-","B","B+","A-","A","A+","IC","W"}) -> 0
A250: ='COURSE WORK'!A251 -> 0 | B250: ='COURSE WORK'!B251 -> 0 | C250: ='COURSE WORK'!O251 -> 0 | J250: =10.6%*C250 -> 0 | K250: =24.4%*D250 -> 0 | L250: =20%*E250 -> 0 | M250: =35%*F250 -> 0 | N250: =5%*G250 -> 0 | O250: =SUM(J250:N250) -> 0 | P250: =((H250+I250)%)*O250 -> 0 | Q250: =SUM(O250:P250) -> 0 | R250: =ROUNDUP(Q250,0) -> 0 | S250: =LOOKUP(R250,{0,1,49,51,54,57,60,64,68,72,76,80,85,90,"i","w"},{"N","F","D-","D","D+","C-","C","C+","B-","B","B+","A-","A","A+","IC","W"}) -> 0
... A360: ='COURSE WORK'!A361 -> 0 | B360: ='COURSE WORK'!B361 -> 0 | C360: ='COURSE WORK'!O361 -> 0 | J360: =10.6%*C360 -> 0 | K360: =24.4%*D360 -> 0 | L360: =20%*E360 -> 0 | M360: =35%*F360 -> 0 | N360: =5%*G360 -> 0 | O360: =SUM(J360:N360) -> 0 | P360: =((H360+I360)%)*O360 -> 0 | Q360: =SUM(O360:P360) -> 0 | R360: =ROUNDUP(Q360,0) -> 0 | S360: =LOOKUP(R360,{0,1,49,51,54,57,60,64,68,72,76,80,85,90,"i","w"},{"N","F","D-","D","D+","C-","C","C+","B-","B","B+","A-","A","A+","IC","W"}) -> 0
A361: ='COURSE WORK'!A362 -> 0 | B361: ='COURSE WORK'!B362 -> 0 | C361: ='COURSE WORK'!O362 -> 0 | J361: =10.6%*C361 -> 0 | K361: =5%*D361 -> 0 | L361: =20%*E361 -> 0 | M361: =35%*F361 -> 0 | N361: =5%*G361 -> 0 | O361: =SUM(J361:N361) -> 0 | P361: =((H361+I361)%)*O361 -> 0 | Q361: =SUM(O361:P361) -> 0 | R361: =ROUNDUP(Q361,0) -> 0 | S361: =LOOKUP(R361,{0,1,49,51,54,57,60,64,68,72,76,80,85,90,"i","w"},{"N","F","D-","D","D+","C-","C","C+","B-","B","B+","A-","A","A+","IC","W"}) -> 0
A362: ='COURSE WORK'!A363 -> 0 | B362: ='COURSE WORK'!B363 -> 0 | C362: ='COURSE WORK'!O363 -> 0 | J362: =10.6%*C362 -> 0 | K362: =5%*D362 -> 0 | L362: =20%*E362 -> 0 | M362: =35%*F362 -> 0 | N362: =5%*G362 -> 0 | O362: =SUM(J362:N362) -> 0 | P362: =((H362+I362)%)*O362 -> 0 | Q362: =SUM(O362:P362) -> 0 | R362: =ROUNDUP(Q362,0) -> 0 | S362: =LOOKUP(R362,{0,1,49,51,54,57,60,64,68,72,76,80,85,90,"i","w"},{"N","F","D-","D","D+","C-","C","C+","B-","B","B+","A-","A","A+","IC","W"}) -> 0
A363: ='COURSE WORK'!A364 -> 0 | B363: ='COURSE WORK'!B364 -> 0 | C363: ='COURSE WORK'!O364 -> 0 | J363: =10.6%*C363 -> 0 | K363: =5%*D363 -> 0 | L363: =20%*E363 -> 0 | M363: =35%*F363 -> 0 | N363: =5%*G363 -> 0 | O363: =SUM(J363:N363) -> 0 | P363: =((H363+I363)%)*O363 -> 0 | Q363: =SUM(O363:P363) -> 0 | R363: =ROUNDUP(Q363,0) -> 0 | S363: =LOOKUP(R363,{0,1,49,51,54,57,60,64,68,72,76,80,85,90,"i","w"},{"N","F","D-","D","D+","C-","C","C+","B-","B","B+","A-","A","A+","IC","W"}) -> 0
A364: ='COURSE WORK'!A365 -> 0 | B364: ='COURSE WORK'!B365 -> 0 | C364: ='COURSE WORK'!O365 -> 0 | J364: =10.6%*C364 -> 0 | K364: =5%*D364 -> 0 | L364: =20%*E364 -> 0 | M364: =35%*F364 -> 0 | N364: =5%*G364 -> 0 | O364: =SUM(J364:N364) -> 0 | P364: =((H364+I364)%)*O364 -> 0 | Q364: =SUM(O364:P364) -> 0 | R364: =ROUNDUP(Q364,0) -> 0 | S364: =LOOKUP(R364,{0,1,49,51,54,57,60,64,68,72,76,80,85,90,"i","w"},{"N","F","D-","D","D+","C-","C","C+","B-","B","B+","A-","A","A+","IC","W"}) -> 0
A365: ='COURSE WORK'!A366 -> 0 | B365: ='COURSE WORK'!B366 -> 0 | C365: ='COURSE WORK'!O366 -> 0 | J365: =10.6%*C365 -> 0 | K365: =5%*D365 -> 0 | L365: =20%*E365 -> 0 | M365: =35%*F365 -> 0 | N365: =5%*G365 -> 0 | O365: =SUM(J365:N365) -> 0 | P365: =((H365+I365)%)*O365 -> 0 | Q365: =SUM(O365:P365) -> 0 | R365: =ROUNDUP(Q365,0) -> 0 | S365: =LOOKUP(R365,{0,1,49,51,54,57,60,64,68,72,76,80,85,90,"i","w"},{"N","F","D-","D","D+","C-","C","C+","B-","B","B+","A-","A","A+","IC","W"}) -> 0
A366: ='COURSE WORK'!A367 -> 0 | B366: ='COURSE WORK'!B367 -> 0 | C366: ='COURSE WORK'!O367 -> 0 | J366: =10.6%*C366 -> 0 | K366: =5%*D366 -> 0 | L366: =20%*E366 -> 0 | M366: =35%*F366 -> 0 | N366: =5%*G366 -> 0 | O366: =SUM(J366:N366) -> 0 | P366: =((H366+I366)%)*O366 -> 0 | Q366: =SUM(O366:P366) -> 0 | R366: =ROUNDUP(Q366,0) -> 0 | S366: =LOOKUP(R366,{0,1,49,51,54,57,60,64,68,72,76,80,85,90,"i","w"},{"N","F","D-","D","D+","C-","C","C+","B-","B","B+","A-","A","A+","IC","W"}) -> 0
A367: ='COURSE WORK'!A368 -> 0 | B367: ='COURSE WORK'!B368 -> 0 | C367: ='COURSE WORK'!O368 -> 0 | J367: =10.6%*C367 -> 0 | K367: =5%*D367 -> 0 | L367: =20%*E367 -> 0 | M367: =35%*F367 -> 0 | N367: =5%*G367 -> 0 | O367: =SUM(J367:N367) -> 0 | P367: =((H367+I367)%)*O367 -> 0 | Q367: =SUM(O367:P367) -> 0 | R367: =ROUNDUP(Q367,0) -> 0 | S367: =LOOKUP(R367,{0,1,49,51,54,57,60,64,68,72,76,80,85,90,"i","w"},{"N","F","D-","D","D+","C-","C","C+","B-","B","B+","A-","A","A+","IC","W"}) -> 0
A368: ='COURSE WORK'!A369 -> 0 | B368: ='COURSE WORK'!B369 -> 0 | C368: ='COURSE WORK'!O369 -> 0 | J368: =10.6%*C368 -> 0 | K368: =5%*D368 -> 0 | L368: =20%*E368 -> 0 | M368: =35%*F368 -> 0 | N368: =5%*G368 -> 0 | O368: =SUM(J368:N368) -> 0 | P368: =((H368+I368)%)*O368 -> 0 | Q368: =SUM(O368:P368) -> 0 | R368: =ROUNDUP(Q368,0) -> 0 | S368: =LOOKUP(R368,{0,1,49,51,54,57,60,64,68,72,76,80,85,90,"i","w"},{"N","F","D-","D","D+","C-","C","C+","B-","B","B+","A-","A","A+","IC","W"}) -> 0
A369: ='COURSE WORK'!A370 -> 0 | B369: ='COURSE WORK'!B370 -> 0 | C369: ='COURSE WORK'!O370 -> 0 | J369: =10.6%*C369 -> 0 | K369: =5%*D369 -> 0 | L369: =20%*E369 -> 0 | M369: =35%*F369 -> 0 | N369: =5%*G369 -> 0 | O369: =SUM(J369:N369) -> 0 | P369: =((H369+I369)%)*O369 -> 0 | Q369: =SUM(O369:P369) -> 0 | R369: =ROUNDUP(Q369,0) -> 0 | S369: =LOOKUP(R369,{0,1,49,51,54,57,60,64,68,72,76,80,85,90,"i","w"},{"N","F","D-","D","D+","C-","C","C+","B-","B","B+","A-","A","A+","IC","W"}) -> 0
A370: ='COURSE WORK'!A371 -> 0 | B370: ='COURSE WORK'!B371 -> 0 | C370: ='COURSE WORK'!O371 -> 0 | J370: =10.6%*C370 -> 0 | K370: =5%*D370 -> 0 | L370: =20%*E370 -> 0 | M370: =35%*F370 -> 0 | N370: =5%*G370 -> 0 | O370: =SUM(J370:N370) -> 0 | P370: =((H370+I370)%)*O370 -> 0 | Q370: =SUM(O370:P370) -> 0 | R370: =ROUNDUP(Q370,0) -> 0 | S370: =LOOKUP(R370,{0,1,49,51,54,57,60,64,68,72,76,80,85,90,"i","w"},{"N","F","D-","D","D+","C-","C","C+","B-","B","B+","A-","A","A+","IC","W"}) -> 0
A371: ='COURSE WORK'!A372 -> 0 | B371: ='COURSE WORK'!B372 -> 0 | C371: ='COURSE WORK'!O372 -> 0 | J371: =10.6%*C371 -> 0 | K371: =5%*D371 -> 0 | L371: =20%*E371 -> 0 | M371: =35%*F371 -> 0 | N371: =5%*G371 -> 0 | O371: =SUM(J371:N371) -> 0 | P371: =((H371+I371)%)*O371 -> 0 | Q371: =SUM(O371:P371) -> 0 | R371: =ROUNDUP(Q371,0) -> 0 | S371: =LOOKUP(R371,{0,1,49,51,54,57,60,64,68,72,76,80,85,90,"i","w"},{"N","F","D-","D","D+","C-","C","C+","B-","B","B+","A-","A","A+","IC","W"}) -> 0
A372: ='COURSE WORK'!A373 -> 0 | B372: ='COURSE WORK'!B373 -> 0 | C372: ='COURSE WORK'!O373 -> 0 | J372: =10.6%*C372 -> 0 | K372: =5%*D372 -> 0 | L372: =20%*E372 -> 0 | M372: =35%*F372 -> 0 | N372: =5%*G372 -> 0 | O372: =SUM(J372:N372) -> 0 | P372: =((H372+I372)%)*O372 -> 0 | Q372: =SUM(O372:P372) -> 0 | R372: =ROUNDUP(Q372,0) -> 0 | S372: =LOOKUP(R372,{0,1,49,51,54,57,60,64,68,72,76,80,85,90,"i","w"},{"N","F","D-","D","D+","C-","C","C+","B-","B","B+","A-","A","A+","IC","W"}) -> 0
... A521: ='COURSE WORK'!A522 -> 0 | B521: ='COURSE WORK'!B522 -> 0 | C521: ='COURSE WORK'!O522 -> 0 | J521: =10.6%*C521 -> 0 | K521: =5%*D521 -> 0 | L521: =20%*E521 -> 0 | M521: =35%*F521 -> 0 | N521: =5%*G521 -> 0 | O521: =SUM(J521:N521) -> 0 | P521: =((H521+I521)%)*O521 -> 0 | Q521: =SUM(O521:P521) -> 0 | R521: =ROUNDUP(Q521,0) -> 0 | S521: =LOOKUP(R521,{0,1,49,51,54,57,60,64,68,72,76,80,85,90,"i","w"},{"N","F","D-","D","D+","C-","C","C+","B-","B","B+","A-","A","A+","IC","W"}) -> 0
B522: ='COURSE WORK'!B523 -> 0 | J522: =10.6%*C522 -> 0 | K522: =5%*D522 -> 0 | L522: =20%*E522 -> 0 | M522: =35%*F522 -> 0 | N522: =5%*G522 -> 0 | O522: =SUM(J522:N522) -> 0 | P522: =((H522+I522)%)*O522 -> 0 | Q522: =SUM(O522:P522) -> 0 | R522: =ROUNDUP(Q522,0) -> 0 | S522: =LOOKUP(R522,{0,1,49,51,54,57,60,64,68,72,76,80,85,90,"i","w"},{"N","F","D-","D","D+","C-","C","C+","B-","B","B+","A-","A","A+","IC","W"}) -> 0
B523: ='COURSE WORK'!B524 -> 0 | J523: =10.6%*C523 -> 0 | K523: =5%*D523 -> 0 | L523: =20%*E523 -> 0 | M523: =35%*F523 -> 0 | N523: =5%*G523 -> 0 | O523: =SUM(J523:N523) -> 0 | P523: =((H523+I523)%)*O523 -> 0 | Q523: =SUM(O523:P523) -> 0 | R523: =ROUNDUP(Q523,0) -> 0 | S523: =LOOKUP(R523,{0,1,49,51,54,57,60,64,68,72,76,80,85,90,"i","w"},{"N","F","D-","D","D+","C-","C","C+","B-","B","B+","A-","A","A+","IC","W"}) -> 0
B524: ='COURSE WORK'!B525 -> 0 | J524: =10.6%*C524 -> 0 | K524: =5%*D524 -> 0 | L524: =20%*E524 -> 0 | M524: =35%*F524 -> 0 | N524: =5%*G524 -> 0 | O524: =SUM(J524:N524) -> 0 | P524: =((H524+I524)%)*O524 -> 0 | Q524: =SUM(O524:P524) -> 0 | R524: =ROUNDUP(Q524,0) -> 0 | S524: =LOOKUP(R524,{0,1,49,51,54,57,60,64,68,72,76,80,85,90,"i","w"},{"N","F","D-","D","D+","C-","C","C+","B-","B","B+","A-","A","A+","IC","W"}) -> 0
B525: ='COURSE WORK'!B526 -> 0 | J525: =10.6%*C525 -> 0 | K525: =5%*D525 -> 0 | L525: =20%*E525 -> 0 | M525: =35%*F525 -> 0 | N525: =5%*G525 -> 0 | O525: =SUM(J525:N525) -> 0 | P525: =((H525+I525)%)*O525 -> 0 | Q525: =SUM(O525:P525) -> 0 | R525: =ROUNDUP(Q525,0) -> 0 | S525: =LOOKUP(R525,{0,1,49,51,54,57,60,64,68,72,76,80,85,90,"i","w"},{"N","F","D-","D","D+","C-","C","C+","B-","B","B+","A-","A","A+","IC","W"}) -> 0
B526: ='COURSE WORK'!B527 -> 0 | J526: =10.6%*C526 -> 0 | K526: =5%*D526 -> 0 | L526: =20%*E526 -> 0 | M526: =35%*F526 -> 0 | N526: =5%*G526 -> 0 | O526: =SUM(J526:N526) -> 0 | P526: =((H526+I526)%)*O526 -> 0 | Q526: =SUM(O526:P526) -> 0 | R526: =ROUNDUP(Q526,0) -> 0 | S526: =LOOKUP(R526,{0,1,49,51,54,57,60,64,68,72,76,80,85,90,"i","w"},{"N","F","D-","D","D+","C-","C","C+","B-","B","B+","A-","A","A+","IC","W"}) -> 0
B527: ='COURSE WORK'!B528 -> 0 | J527: =10.6%*C527 -> 0 | K527: =5%*D527 -> 0 | L527: =20%*E527 -> 0 | M527: =35%*F527 -> 0 | N527: =5%*G527 -> 0 | O527: =SUM(J527:N527) -> 0 | P527: =((H527+I527)%)*O527 -> 0 | Q527: =SUM(O527:P527) -> 0 | R527: =ROUNDUP(Q527,0) -> 0 | S527: =LOOKUP(R527,{0,1,49,51,54,57,60,64,68,72,76,80,85,90,"i","w"},{"N","F","D-","D","D+","C-","C","C+","B-","B","B+","A-","A","A+","IC","W"}) -> 0
B528: ='COURSE WORK'!B529 -> 0 | J528: =10.6%*C528 -> 0 | K528: =5%*D528 -> 0 | L528: =20%*E528 -> 0 | M528: =35%*F528 -> 0 | N528: =5%*G528 -> 0 | O528: =SUM(J528:N528) -> 0 | P528: =((H528+I528)%)*O528 -> 0 | Q528: =SUM(O528:P528) -> 0 | R528: =ROUNDUP(Q528,0) -> 0 | S528: =LOOKUP(R528,{0,1,49,51,54,57,60,64,68,72,76,80,85,90,"i","w"},{"N","F","D-","D","D+","C-","C","C+","B-","B","B+","A-","A","A+","IC","W"}) -> 0
B529: ='COURSE WORK'!B530 -> 0 | J529: =10.6%*C529 -> 0 | K529: =5%*D529 -> 0 | L529: =20%*E529 -> 0 | M529: =35%*F529 -> 0 | N529: =5%*G529 -> 0 | O529: =SUM(J529:N529) -> 0 | P529: =((H529+I529)%)*O529 -> 0 | Q529: =SUM(O529:P529) -> 0 | R529: =ROUNDUP(Q529,0) -> 0 | S529: =LOOKUP(R529,{0,1,49,51,54,57,60,64,68,72,76,80,85,90,"i","w"},{"N","F","D-","D","D+","C-","C","C+","B-","B","B+","A-","A","A+","IC","W"}) -> 0
B530: ='COURSE WORK'!B531 -> 0 | J530: =10.6%*C530 -> 0 | K530: =5%*D530 -> 0 | L530: =20%*E530 -> 0 | M530: =35%*F530 -> 0 | N530: =5%*G530 -> 0 | O530: =SUM(J530:N530) -> 0 | P530: =((H530+I530)%)*O530 -> 0 | Q530: =SUM(O530:P530) -> 0 | R530: =ROUNDUP(Q530,0) -> 0 | S530: =LOOKUP(R530,{0,1,49,51,54,57,60,64,68,72,76,80,85,90,"i","w"},{"N","F","D-","D","D+","C-","C","C+","B-","B","B+","A-","A","A+","IC","W"}) -> 0
B531: ='COURSE WORK'!B532 -> 0 | J531: =10.6%*C531 -> 0 | K531: =5%*D531 -> 0 | L531: =20%*E531 -> 0 | M531: =35%*F531 -> 0 | N531: =5%*G531 -> 0 | O531: =SUM(J531:N531) -> 0 | P531: =((H531+I531)%)*O531 -> 0 | Q531: =SUM(O531:P531) -> 0 | R531: =ROUNDUP(Q531,0) -> 0 | S531: =LOOKUP(R531,{0,1,49,51,54,57,60,64,68,72,76,80,85,90,"i","w"},{"N","F","D-","D","D+","C-","C","C+","B-","B","B+","A-","A","A+","IC","W"}) -> 0
B532: ='COURSE WORK'!B533 -> 0 | J532: =10.6%*C532 -> 0 | K532: =5%*D532 -> 0 | L532: =20%*E532 -> 0 | M532: =35%*F532 -> 0 | N532: =5%*G532 -> 0 | O532: =SUM(J532:N532) -> 0 | P532: =((H532+I532)%)*O532 -> 0 | Q532: =SUM(O532:P532) -> 0 | R532: =ROUNDUP(Q532,0) -> 0 | S532: =LOOKUP(R532,{0,1,49,51,54,57,60,64,68,72,76,80,85,90,"i","w"},{"N","F","D-","D","D+","C-","C","C+","B-","B","B+","A-","A","A+","IC","W"}) -> 0
B533: ='COURSE WORK'!B534 -> 0 | J533: =10.6%*C533 -> 0 | K533: =5%*D533 -> 0 | L533: =20%*E533 -> 0 | M533: =35%*F533 -> 0 | N533: =5%*G533 -> 0 | O533: =SUM(J533:N533) -> 0 | P533: =((H533+I533)%)*O533 -> 0 | Q533: =SUM(O533:P533) -> 0 | R533: =ROUNDUP(Q533,0) -> 0 | S533: =LOOKUP(R533,{0,1,49,51,54,57,60,64,68,72,76,80,85,90,"i","w"},{"N","F","D-","D","D+","C-","C","C+","B-","B","B+","A-","A","A+","IC","W"}) -> 0
... B580: ='COURSE WORK'!B581 -> 0 | J580: =10.6%*C580 -> 0 | K580: =5%*D580 -> 0 | L580: =20%*E580 -> 0 | M580: =35%*F580 -> 0 | N580: =5%*G580 -> 0 | O580: =SUM(J580:N580) -> 0 | P580: =((H580+I580)%)*O580 -> 0 | Q580: =SUM(O580:P580) -> 0 | R580: =ROUNDUP(Q580,0) -> 0 | S580: =LOOKUP(R580,{0,1,49,51,54,57,60,64,68,72,76,80,85,90,"i","w"},{"N","F","D-","D","D+","C-","C","C+","B-","B","B+","A-","A","A+","IC","W"}) -> 0
B581: ='COURSE WORK'!B582 -> 0 | J581: =10.6%*C581 -> 0 | K581: =5%*D581 -> 0 | N581: =5%*G581 -> 0
B582: ='COURSE WORK'!B583 -> 0 | J582: =10.6%*C582 -> 0 | K582: =5%*D582 -> 0 | N582: =5%*G582 -> 0
B583: ='COURSE WORK'!B584 -> 0 | J583: =10.6%*C583 -> 0 | K583: =5%*D583 -> 0 | N583: =5%*G583 -> 0
B584: ='COURSE WORK'!B585 -> 0 | J584: =10.6%*C584 -> 0 | K584: =5%*D584 -> 0 | N584: =5%*G584 -> 0
B585: ='COURSE WORK'!B586 -> 0 | J585: =10.6%*C585 -> 0 | K585: =5%*D585 -> 0 | N585: =5%*G585 -> 0
B586: ='COURSE WORK'!B587 -> 0 | J586: =10.6%*C586 -> 0 | K586: =5%*D586 -> 0 | N586: =5%*G586 -> 0
B587: ='COURSE WORK'!B588 -> 0 | J587: =10.6%*C587 -> 0 | K587: =5%*D587 -> 0 | N587: =5%*G587 -> 0
B588: ='COURSE WORK'!B589 -> 0 | J588: =10.6%*C588 -> 0 | K588: =5%*D588 -> 0 | N588: =5%*G588 -> 0
B589: ='COURSE WORK'!B590 -> 0 | J589: =10.6%*C589 -> 0 | K589: =5%*D589 -> 0 | N589: =5%*G589 -> 0
B590: ='COURSE WORK'!B591 -> 0 | J590: =10.6%*C590 -> 0 | K590: =5%*D590 -> 0 | N590: =5%*G590 -> 0
B591: ='COURSE WORK'!B592 -> 0 | J591: =10.6%*C591 -> 0 | K591: =5%*D591 -> 0 | N591: =5%*G591 -> 0
B592: ='COURSE WORK'!B593 -> 0 | J592: =10.6%*C592 -> 0 | K592: =5%*D592 -> 0 | N592: =5%*G592 -> 0
... B607: ='COURSE WORK'!B608 -> 0 | J607: =10.6%*C607 -> 0 | K607: =5%*D607 -> 0 | N607: =5%*G607 -> 0
B608: ='COURSE WORK'!B609 -> 0 | K608: =5%*D608 -> 0 | N608: =5%*G608 -> 0

Sheet GRAPH
A3: Grade | B3: No. of Students
A4: A+ | B4: =COUNTIF('GRADE SHEET'!S3:S332,"A+") -> 0
A5: A | B5: =COUNTIF('GRADE SHEET'!S3:S332,"A") -> 0
A6: A- | B6: =COUNTIF('GRADE SHEET'!S3:S332,"A-") -> 0
A7: B+ | B7: =COUNTIF('GRADE SHEET'!S3:S332,"B+") -> 0
A8: B | B8: =COUNTIF('GRADE SHEET'!S3:S332,"B") -> 0
A9: B- | B9: =COUNTIF('GRADE SHEET'!S3:S332,"B-") -> 0
A10: C+ | B10: =COUNTIF('GRADE SHEET'!S3:S332,"C+") -> 0
A11: C | B11: =COUNTIF('GRADE SHEET'!S3:S332,"C") -> 0
A12: C- | B12: =COUNTIF('GRADE SHEET'!S3:S332,"C-") -> 0
A13: D+ | B13: =COUNTIF('GRADE SHEET'!S3:S332,"D+") -> 0
A14: D | B14: =COUNTIF('GRADE SHEET'!S3:S332,"D") -> 0
A15: D- | B15: =COUNTIF('GRADE SHEET'!S3:S332,"D-") -> 0
A16: F | B16: =COUNTIF('GRADE SHEET'!S3:S332,"F") -> 0
A17: IC | B17: =COUNTIF('GRADE SHEET'!S3:S332,"IC") -> 0
A18: Total | B18: =SUM(B4:B17) -> 0
B21: COURSEWORK | C21: MIDSEM | D21: EXAM | E21: TOTAL
A22: MIN | B22: =MIN('GRADE SHEET'!J3:J22) -> 0 | C22: =MIN('GRADE SHEET'!L3:L23) -> 0 | D22: =MIN('GRADE SHEET'!M3:M23) -> 0 | E22: =MIN('GRADE SHEET'!O3:O23) -> 0
A23: MAX | B23: =MAX('GRADE SHEET'!J3:J22) -> 0 | C23: =MAX('GRADE SHEET'!L3:L23) -> 0 | D23: =MAX('GRADE SHEET'!M3:M23) -> 0 | E23: =MAX('GRADE SHEET'!O3:O23) -> 0
A24: AVG | B24: =AVERAGE('GRADE SHEET'!J3:J22) -> 0 | C24: =AVERAGE('GRADE SHEET'!L3:L23) -> 0 | D24: =AVERAGE('GRADE SHEET'!M3:M23) -> 0 | E24: =AVERAGE('GRADE SHEET'!O3:O23) -> 0
A26: TOTAL FAILURE RATE
B27: =SUM(GRAPH!A12:A16,GRAPH!B12:B16)/GRAPH!B18 -> 0

Sheet CLASSLIST SYSTEM
A1: AIT COURSE WORK SCORE/GRADE RECORD FORM
A2: Browse Course
A3: Search
A4: Course Code: CVE312 | B4: Semester : | C4: Session : | D4: Lecturer :
A5: # | B5: Name | E5: ID Number | H5: 1 | I5: 2 | J5: 3 | K5: 4 | L5: 5 | M5: 6 | N5: 7 | O5: 8 | P5: 9 | Q5: 10 | R5: 11 | S5: 12 | T5: 13 | U5: 14 | V5: 15 | W5: 16 | X5: 17 | Y5: 18 | Z5: Total
H6: 10 | I6: 10 | J6: 10 | K6: 10 | L6: 10 | M6: 10 | N6: 10 | O6: 10 | P6: 10 | Q6: 10 | R6: 10 | S6: 10 | T6: 10 | U6: 10 | V6: 10 | W6: 10 | X6: 10 | Y6: 10
B7: ABDULLAH MUKHTAR | E7: ENG23B00104Y
B8: ACQUAH MARK | E8: ENG24B00101Y
B9: ADJEI ERNEST | E9: ENG26B00084Y
B10: AGBOZO ALFRED | E10: ENG25A00007Y
B11: AURELE ENDJOWOH OUADAKPA AYMAR | E11: ENG25A00024Y
B12: AWUKU EMMANUEL | E12: ENG26B00075Y
B13: DENGHEFA ABAKA PROSPER | E13: ENG25A00002Y
B14: KOJO AKOETEY EMMANUEL | E14: ENG24B00093Y
B15: KUEKU SIAW PHILIP | E15: ENG26B00090Y
B16: KWEGYIR NICHOLAS | E16: ENG26B00088Y
B17: LAURENT ADJAGUE VENANCE | E17: ENG25A00006Y
B18: MANUEL ESONO OWONO ASUE EUSEBIO | E18: ENG25A00021Y
... B20: SODZI PROSPER | E20: ENG24B00104Y

Sheet CLASS LIST(attendance)
C1: 1 | D1: 2 | E1: 3 | F1: 4 | G1: 5 | H1: 6 | I1: 7 | J1: 8 | K1: 9 | L1: 10 | M1: 11 | N1: 12 | O1: 13 | P1: 14 | Q1: 15 | R1: 16 | S1: TOTAL | T1: DECN | U1: %Attend
A2: ='COURSE WORK'!A4 -> 0 | B2: ='COURSE WORK'!B4 -> 0 | C2: P | D2: P | E2: P | F2: P | G2: p | S2: =COUNTIF(B2:R2,"P") -> 0 | T2: =IF(S2>4, 16, 6.4) -> 0 | U2: =(T2/16)*5 -> 0
A3: ='COURSE WORK'!A5 -> 0 | B3: ='COURSE WORK'!B5 -> 0 | C3: P | D3: P | E3: P | Q3: P | R3: P | S3: =COUNTIF(B3:R3,"P") -> 0 | T3: =IF(S3>4, 16, 6.4) -> 0 | U3: =(T3/16)*5 -> 0
A4: ='COURSE WORK'!A6 -> 0 | B4: ='COURSE WORK'!B6 -> 0 | C4: P | R4: P | S4: =COUNTIF(B4:R4,"P") -> 0 | T4: =IF(S4>4, 16, 6.4) -> 0 | U4: =(T4/16)*5 -> 0
A5: ='COURSE WORK'!A7 -> 0 | B5: ='COURSE WORK'!B7 -> 0 | C5: P | D5: P | E5: P | P5: P | S5: =COUNTIF(B5:R5,"P") -> 0 | T5: =IF(S5>4, 16, 6.4) -> 0 | U5: =(T5/16)*5 -> 0
A6: ='COURSE WORK'!A8 -> 0 | B6: ='COURSE WORK'!B8 -> 0 | C6: P | D6: P | E6: P | F6: P | G6: P | H6: P | I6: P | J6: P | K6: P | L6: P | M6: P | N6: P | O6: P | P6: P | Q6: P | R6: P | S6: =COUNTIF(B6:R6,"P") -> 0 | T6: =IF(S6>4, 16, 6.4) -> 0 | U6: =(T6/16)*5 -> 0
A7: ='COURSE WORK'!A9 -> 0 | B7: ='COURSE WORK'!B9 -> 0 | C7: P | D7: P | E7: P | F7: P | G7: P | H7: P | I7: P | J7: P | K7: P | L7: P | M7: P | N7: P | O7: P | P7: P | Q7: P | R7: P | S7: =COUNTIF(B7:R7,"P") -> 0 | T7: =IF(S7>4, 16, 6.4) -> 0 | U7: =(T7/16)*5 -> 0
A8: ='COURSE WORK'!A10 -> 0 | B8: ='COURSE WORK'!B10 -> 0 | C8: P | D8: P | E8: p | Q8: P | R8: P | S8: =COUNTIF(B8:R8,"P") -> 0 | T8: =IF(S8>4, 16, 6.4) -> 0 | U8: =(T8/16)*5 -> 0
A9: ='COURSE WORK'!A11 -> 0 | B9: ='COURSE WORK'!B11 -> 0 | C9: P | D9: P | E9: P | F9: P | G9: P | H9: P | I9: P | J9: P | K9: P | L9: P | M9: P | N9: P | O9: P | P9: P | Q9: P | R9: P | S9: =COUNTIF(B9:R9,"P") -> 0 | T9: =IF(S9>4, 16, 6.4) -> 0 | U9: =(T9/16)*5 -> 0
A10: ='COURSE WORK'!A12 -> 0 | B10: ='COURSE WORK'!B12 -> 0 | C10: P | O10: P | P10: P | Q10: P | R10: P | S10: =COUNTIF(B10:R10,"P") -> 0 | T10: =IF(S10>4, 16, 6.4) -> 0 | U10: =(T10/16)*5 -> 0
A11: ='COURSE WORK'!A13 -> 0 | B11: ='COURSE WORK'!B13 -> 0 | C11: P | D11: P | E11: P | F11: P | G11: P | H11: P | I11: P | J11: P | K11: P | L11: P | M11: P | N11: P | O11: P | P11: P | Q11: P | R11: P | S11: =COUNTIF(B11:R11,"P") -> 0 | T11: =IF(S11>4, 16, 6.4) -> 0 | U11: =(T11/16)*5 -> 0
A12: ='COURSE WORK'!A14 -> 0 | B12: ='COURSE WORK'!B14 -> 0 | C12: P | D12: P | E12: P | F12: P | G12: P | H12: P | I12: P | J12: P | K12: P | L12: P | M12: P | N12: P | O12: P | P12: P | Q12: P | R12: P | S12: =COUNTIF(B12:R12,"P") -> 0 | T12: =IF(S12>4, 16, 6.4) -> 0 | U12: =(T12/16)*5 -> 0
A13: ='COURSE WORK'!A15 -> 0 | B13: ='COURSE WORK'!B15 -> 0 | O13: P | P13: P | Q13: P | R13: P | S13: =COUNTIF(B13:R13,"P") -> 0 | T13: =IF(S13>4, 16, 6.4) -> 0 | U13: =(T13/16)*5 -> 0
A14: ='COURSE WORK'!A16 -> 0 | B14: ='COURSE WORK'!B16 -> 0 | C14: P | P14: P | Q14: P | R14: P | S14: =COUNTIF(B14:R14,"P") -> 0 | T14: =IF(S14>4, 16, 6.4) -> 0 | U14: =(T14/16)*5 -> 0
A15: ='COURSE WORK'!A17 -> 0 | B15: ='COURSE WORK'!B17 -> 0 | C15: P | P15: P | Q15: P | R15: P | S15: =COUNTIF(B15:R15,"P") -> 0 | T15: =IF(S15>4, 16, 6.4) -> 0 | U15: =(T15/16)*5 -> 0
A16: ='COURSE WORK'!A18 -> 0 | B16: ='COURSE WORK'!B18 -> 0 | C16: P | P16: P | Q16: P | R16: P | S16: =COUNTIF(B16:R16,"P") -> 0 | T16: =IF(S16>4, 16, 6.4) -> 0 | U16: =(T16/16)*5 -> 0
A17: ='COURSE WORK'!A19 -> 0 | B17: ='COURSE WORK'!B19 -> 0 | C17: P | P17: P | Q17: P | R17: P | S17: =COUNTIF(B17:R17,"P") -> 0 | T17: =IF(S17>4, 16, 6.4) -> 0 | U17: =(T17/16)*5 -> 0
A18: ='COURSE WORK'!A20 -> 0 | B18: ='COURSE WORK'!B20 -> 0 | C18: P | P18: P | Q18: P | R18: P | S18: =COUNTIF(B18:R18,"P") -> 0 | T18: =IF(S18>4, 16, 6.4) -> 0 | U18: =(T18/16)*5 -> 0
A19: ='COURSE WORK'!A21 -> 0 | B19: ='COURSE WORK'!B21 -> 0 | C19: P | D19: P | E19: P | I19: P | J19: P | K19: P | L19: P | M19: P | Q19: P | R19: P | S19: =COUNTIF(B19:R19,"P") -> 0 | T19: =IF(S19>4, 16, 6.4) -> 0 | U19: =(T19/16)*5 -> 0
A20: ='COURSE WORK'!A22 -> 0 | B20: ='COURSE WORK'!B22 -> 0 | C20: P | D20: P | E20: P | I20: P | J20: P | K20: P | L20: P | M20: P | Q20: P | R20: P | S20: =COUNTIF(B20:R20,"P") -> 0 | T20: =IF(S20>4, 16, 6.4) -> 0 | U20: =(T20/16)*5 -> 0
A21: ='COURSE WORK'!A23 -> 0 | B21: ='COURSE WORK'!B23 -> 0 | C21: P | D21: P | E21: P | I21: P | J21: P | K21: P | L21: P | M21: P | Q21: P | R21: P | S21: =COUNTIF(B21:R21,"P") -> 0 | T21: =IF(S21>4, 16, 6.4) -> 0 | U21: =(T21/16)*5 -> 0
A22: ='COURSE WORK'!A24 -> 0 | B22: ='COURSE WORK'!B24 -> 0 | C22: P | D22: P | E22: P | F22: P | G22: P | H22: P | N22: P | O22: P | P22: P | Q22: P | R22: P | S22: =COUNTIF(B22:R22,"P") -> 0 | T22: =IF(S22>4, 16, 6.4) -> 0 | U22: =(T22/16)*5 -> 0
A23: ='COURSE WORK'!A25 -> 0 | B23: ='COURSE WORK'!B25 -> 0 | C23: P | D23: P | E23: P | F23: P | G23: P | H23: P | N23: P | O23: P | P23: P | Q23: P | R23: P | S23: =COUNTIF(B23:R23,"P") -> 0 | T23: =IF(S23>4, 16, 6.4) -> 0 | U23: =(T23/16)*5 -> 0
A24: ='COURSE WORK'!A26 -> 0 | B24: ='COURSE WORK'!B26 -> 0 | C24: P | D24: P | E24: P | F24: P | G24: P | H24: P | N24: P | O24: P | P24: P | Q24: P | R24: P | S24: =COUNTIF(B24:R24,"P") -> 0 | T24: =IF(S24>4, 16, 6.4) -> 0 | U24: =(T24/16)*5 -> 0
